BEGIN:VCALENDAR
VERSION:2.0
PRODID:-//jEvents 2.0 for Joomla//EN
CALSCALE:GREGORIAN
METHOD:PUBLISH
BEGIN:VTIMEZONE
TZID:Europe/Madrid
END:VTIMEZONE
BEGIN:VEVENT
UID:ce51b1327a4b1419929505bc4d882e43
CATEGORIES:Turismo
CREATED:20220810T133852
SUMMARY:CIR&CO
DESCRIPTION;ENCODING=QUOTED-PRINTABLE:CIR&amp;CO\n24 al 28 de agosto\n\nDescargar el programa
DTSTAMP:20260422T191953Z
DTSTART;TZID=Europe/Madrid;VALUE=DATE:20220824
DTEND;TZID=Europe/Madrid;VALUE=DATE:20220829
SEQUENCE:0
TRANSP:OPAQUE
END:VEVENT
END:VCALENDAR