BEGIN:VCALENDAR
VERSION:2.0
PRODID:-//jEvents 2.0 for Joomla//EN
CALSCALE:GREGORIAN
METHOD:PUBLISH
BEGIN:VTIMEZONE
TZID:Europe/Madrid
END:VTIMEZONE
BEGIN:VEVENT
UID:80f2b3074625dcd7953907d9fde0f232
CATEGORIES:Infancia
CREATED:20220818T134704
SUMMARY:LUDOTECAS MUNICIPALES 2022/2023
DESCRIPTION;ENCODING=QUOTED-PRINTABLE:<h2 class="itemTitle" style="margin: 0px; font-family: MavenProRegular; fon
 t-weight: normal; line-height: 24px; color: #ca5a4a; font-size: 24px; text-
 transform: uppercase; padding: 10px 0px 4px; font-style: normal; letter-spa
 cing: normal; orphans: 2; text-align: start; text-indent: 0px; white-space:
  normal; widows: 2; word-spacing: 0px; background-color: #f7f7f9;">LUDOTECA
 S MUNICIPALES 2022/2023</h2><div class="itemIntroText" style="color: #44444
 4; font-size: 18px; font-weight: bold; line-height: 24px; padding: 4px 0px 
 12px; font-family: MavenProRegular; font-style: normal; letter-spacing: nor
 mal; orphans: 2; text-align: start; text-indent: 0px; text-transform: none;
  white-space: normal; widows: 2; word-spacing: 0px; background-color: #f7f7
 f9;"><p style="margin: 15px 0px; text-align: justify;">El día 22 de agosto 
 se abre el plazo de inscripción&nbsp;para el curso 2022/2023 en las ludotec
 as municipales, que ofrecerán seis programas diferentes con cerca de 400 pl
 azas.</p></div><div class="itemFullText" style="color: #444446; font-family
 : MavenProRegular; font-size: 13px; font-style: normal; font-weight: 400; l
 etter-spacing: normal; orphans: 2; text-align: start; text-indent: 0px; tex
 t-transform: none; white-space: normal; widows: 2; word-spacing: 0px; backg
 round-color: #f7f7f9;"><p style="margin: 15px 0px; text-align: justify;">Ha
 sta el 4 de septiembre permanecerá abierto el plazo de inscripción para los
  programas, que está previsto comiencen su actividad el 14 de ese mismo mes
 .</p><p style="margin: 15px 0px; text-align: justify;">Este año, se desarro
 llarán seis proyectos lúdicos educativos que girarán en torno a un único te
 ma motivador para el aprendizaje. ‘La vuelta al mundo de Willy Fog’ les ser
 virá a los participantes para desarrollar un proyecto de identidad e integr
 ación cultural como tema globalizador.</p><p style="margin: 15px 0px; text-
 align: justify;"><strong style="font-weight: bold;">Programas<br /></strong
 ></p><p style="margin: 15px 0px; text-align: justify;">El proyecto de Prime
 ra Infancia estará dirigido a niños de 1 a 3 años y ofrecerá un total de 66
  plazas. Se realizará en las ludotecas sur y norte, en horario de 10 a 13 h
 oras.</p><p style="margin: 15px 0px; text-align: justify;">El proyecto de P
 equeteca estará destinado a niños de entre 12 meses y 3 años, acompañados p
 or un adulto. Cada participante podrá utilizar una vez por semana este prog
 rama que se realizará en las ludotecas norte (miércoles) y sur (lunes y jue
 ves), en horario de 17 a 19 horas y que ofertará 60 plazas.</p><p style="ma
 rgin: 15px 0px; text-align: justify;">La iniciativa ‘Juego en familia’ esta
 rá destinada a familias con al menos dos hijos, de los que uno de ellos ten
 ga entre 12 meses y 3 años y el otro sea menor de 10 años. Este programa, q
 ue también requiere la presencia de un adulto, se desarrollará los viernes 
 en la ludoteca norte, de 17 a 19 horas, y el número de plazas disponibles e
 s de 20.</p><p style="margin: 15px 0px; text-align: justify;">En cuanto al 
 programa de Ocio y Tiempo libre, tendrá como participantes a niños nacidos 
 entre los años 2019 y 2012 y contará con 80 plazas. Se desarrollará en las 
 ludotecas norte (lunes y jueves) y sur (martes y miércoles), de 17 a 19 hor
 as.</p><p style="margin: 15px 0px; text-align: justify;">Un quinto programa
  que se pondrá en marcha consistirá en Talleres de aprendizaje, una activid
 ad de dos semanas de duración en cada taller que va dirigida a niños nacido
 s entre 2019 y 2012 y se desarrollará en las ludotecas norte (martes) y sur
  (viernes), de 17.30 a 19 horas, con una disponibilidad de 40 plazas quince
 nales.</p><p style="margin: 15px 0px; text-align: justify;">Asimismo, se ll
 evará a cabo el programa ‘Ludobebé’, de carácter trimestral y dirigido a ni
 ños de 1 a 12 meses y sus progenitores. Este programa se dividirá, a su vez
 , en dos talleres: ‘Murmullos en la piel’ (jueves), para niños de 1 a 5 mes
 es, y ‘Top gateo’ (miércoles), para participantes de 6 a 12 meses. Tendrá l
 ugar en la ludoteca centro y los grupos serán de 10 participantes máximo. S
 e contará con 40 plazas por trimestre, lo que supondrá un total de 120 plaz
 as en el curso.</p><p style="margin: 15px 0px; text-align: justify;"><stron
 g style="font-weight: bold;">Inscripciones<br /></strong></p><p style="marg
 in: 15px 0px; text-align: justify;">Las inscripciones deberán realizarse pr
 eferentemente por sede electrónica, en avila.sede.es, o en el Registro Muni
 cipal. Deberá presentarse una instancia por cada uno de los programas en lo
 s que se desea participar. Las instancias pueden adquirirse a través de la 
 web del Ayuntamiento, www.avila.es, en la Oficina de Atención al Ciudadano 
 (OAC) o en las ludotecas.</p><p style="margin: 15px 0px; text-align: justif
 y;">Las plazas serán adjudicadas por orden de inscripción en el Registro y 
 el 6 de septiembre se publicará en las ludotecas municipales, en la web mun
 icipal, avila.es, y en la Oficina de Atención a la Ciudadanía (OAC) el list
 ado de admitidos y las listas de espera.</p><p style="margin: 15px 0px; tex
 t-align: justify;">En el caso de que haya plazas disponibles, durante el cu
 rso, se podrán realizar las consultas e inscripciones oportunas los viernes
 , de 10 a 11.30 horas en la ludoteca deseada.<br /><br /></p><table style="
 max-width: 100%; background-color: transparent; border-collapse: collapse; 
 border-spacing: 0px; width: 697px; height: 49px;"><tbody><tr><td style="pad
 ding: 1px;">Desde este enlace podrá descargar el Tríptico de Información de
  las Ludotecas :&nbsp;<a href="images/Documentos%20PDF%20para%20descargar/j
 uventud/ludotecasTripticoCurso22_23.pdf" target="_self" style="color: #ca5a
 4a; text-decoration: none;">Descargar</a></td></tr><tr><td style="padding: 
 1px;"><a href="images/Documentos%20PDF%20para%20descargar/juventud/NORMAS_L
 UDOTECAS_22-23.pdf" target="_blank" style="color: #ca5a4a; text-decoration:
  none;" rel="noopener">Consultar las normas de funcionamiento de las Ludote
 cas Municipales de Ávila</a></td></tr></tbody></table><p style="margin: 15p
 x 0px; text-align: justify;"><strong style="font-weight: bold;">Instancias:
 <br /><br /></strong></p><table style="max-width: 100%; background-color: t
 ransparent; border-collapse: collapse; border-spacing: 0px; width: 504px; h
 eight: 78px;"><tbody><tr><td style="padding: 1px;"><a href="images/Document
 os%20PDF%20para%20descargar/JUVENTUD/instancia_pequeteca_y_juego_en_familia
 _22-3.pdf" target="_blank" style="color: #ca5a4a; text-decoration: none;" r
 el="noopener">Instancia Pequeteca y Juego en Familia.</a></td></tr><tr><td 
 style="padding: 1px;"><a href="images/Documentos%20PDF%20para%20descargar/J
 UVENTUD/instancia_ludobbe_22-23.pdf" target="_blank" style="color: #ca5a4a;
  text-decoration: none;" rel="noopener">Instancia Ludobebe.</a></td></tr><t
 r><td style="padding: 1px;"><a href="images/Documentos%20PDF%20para%20desca
 rgar/JUVENTUD/instancia_primera_i._22-23.pdf" target="_blank" style="color:
  #ca5a4a; text-decoration: none;" rel="noopener">Instancia Primera Infancia
 .</a></td></tr><tr><td style="padding: 1px;"><a href="images/Documentos%20P
 DF%20para%20descargar/JUVENTUD/instancia_ocio_y_tiempo_libre_22-23.pdf" tar
 get="_blank" style="color: #ca5a4a; text-decoration: none;" rel="noopener">
 Instancia para Programa Ocio y Tiempo Libre..</a></td></tr></tbody></table>
 </div>
DTSTAMP:20260422T191159Z
DTSTART;TZID=Europe/Madrid;VALUE=DATE:20220822
DTEND;TZID=Europe/Madrid;VALUE=DATE:20220823
SEQUENCE:0
TRANSP:OPAQUE
END:VEVENT
END:VCALENDAR