BEGIN:VCALENDAR
VERSION:2.0
PRODID:-//jEvents 2.0 for Joomla//EN
CALSCALE:GREGORIAN
METHOD:PUBLISH
BEGIN:VTIMEZONE
TZID:Europe/Madrid
END:VTIMEZONE
BEGIN:VEVENT
UID:a508145381f7c88f87a9534ad00406d0
CATEGORIES:Deportes
CREATED:20230713T105152
SUMMARY:Gimnasia en los parques
DESCRIPTION;ENCODING=QUOTED-PRINTABLE:A partir del 16 de junio y hasta el 29 de septiembre se puede acudir a la a
 ctividad de gimansia en los parques.<br /><br />Tendrá lugar de 10 a 11 hor
 as&nbsp; en&nbsp; el Parque de San Antonio y en el Parque de la Avda de Jua
 n Pablo II.<br /><br />Acceso libre y gratuito
DTSTAMP:20260420T070350Z
DTSTART;TZID=Europe/Madrid;VALUE=DATE:20230616
DTEND;TZID=Europe/Madrid;VALUE=DATE:20230930
SEQUENCE:0
TRANSP:OPAQUE
END:VEVENT
END:VCALENDAR