BEGIN:VCALENDAR
VERSION:2.0
PRODID:-//jEvents 2.0 for Joomla//EN
CALSCALE:GREGORIAN
METHOD:PUBLISH
BEGIN:VTIMEZONE
TZID:Europe/Madrid
END:VTIMEZONE
BEGIN:VEVENT
UID:edea277707617bc7822dbcb72f286487
CATEGORIES:Cultura
CREATED:20231107T103439
SUMMARY:EXPOSICIÓN FOTOGRÁFICA HOMENAJE A LOS MAYORES
DESCRIPTION;ENCODING=QUOTED-PRINTABLE:El Ayuntamiento de Ávila rinde homenaje a la juventud que a diario muestran
  los mayores de la ciudad en una exposición fotográfica con imágenes tomada
 s por Vicente Dolz.\n\n’18 mayores de edad’ está integrada por 19 fotografí
 as en blanco y negro a personas mayores que participan en las actividades q
 ue desarrolla el Ayuntamiento de Ávila.\n\nDionisia, Antonio, Felisa, Maris
 ol, Castora, Marina, Tomasa, Rosa María, Emilia, Laura, Paquita (fallecida)
 , Emiliana, Juan Bonifacio (fallecido), Laureano, María Dolores, Dioni, Lol
 a y José Luis, de entre 75 y 97 años, son los protagonistas de las instantá
 neas tomadas por Vicente Dolz en el marco de un proyecto que busca difundir
  la riqueza que suponen los mayores como un gran activo para el conjunto de
  la sociedad.\n\nEllos son el mejor ejemplo de que la edad es sólo un númer
 o y también son el mejor ejemplo de la imagen positiva y realista de las pe
 rsonas mayores que queremos transmitir, dándoles la posibilidad de particip
 ar en la vida social.\n\nCon el objetivo de demostrar que la belleza no nec
 esariamente va asociada a la juventud, como parece transmitir la sociedad d
 e hoy día, el trabajo de Vicente Dolz ha permitido retratar a 19 mayores en
  su esencia, reflejando sentimientos y vivencias en cada fotografía.\n\nDe 
 forma paralela a la exposición, que podrá verse todo el mes de noviembre en
  el palacio de Los Verdugo, la organización 100ASA ha contribuido a este ho
 menaje a los mayores plantando 19 robles con el nombre de cada una de las p
 ersonas que integran la exposición, uniendo de esta forma lo joven y menos 
 joven, la juventud de los árboles recién plantados y la experiencia
DTSTAMP:20260424T184014Z
DTSTART;TZID=Europe/Madrid;VALUE=DATE:20231102
DTEND;TZID=Europe/Madrid;VALUE=DATE:20231201
SEQUENCE:0
TRANSP:OPAQUE
END:VEVENT
END:VCALENDAR