BEGIN:VCALENDAR
VERSION:2.0
PRODID:-//jEvents 2.0 for Joomla//EN
CALSCALE:GREGORIAN
METHOD:PUBLISH
BEGIN:VTIMEZONE
TZID:Europe/Madrid
END:VTIMEZONE
BEGIN:VEVENT
UID:d910595aab61e9b63b85a76b315245aa
CATEGORIES:Evento destacado
CREATED:20231117T135636
SUMMARY:Exposición de pinturas de BJ Gutiérrez
DESCRIPTION;ENCODING=QUOTED-PRINTABLE:<p><strong><br />Paisajes, retratos y plumas realizados en óleo, pastel y o
 tras técnicas llenan desde hoy el espacio municipal del Episcopio con una e
 xposición de pintura de B.J. Gutiérrez.</strong></p><p>Inaugurada la muestr
 a que hasta final de mes permitirá ver las diferentes técnicas y estilos qu
 e trabaja Bienvenido J. Gutiérrez, pintor autodidacta que dedica su tiempo 
 a plasmar sobre el lienzo las escenas que más le llaman la atención.</p><p>
 Desde la iglesia de Rasueros hasta la muralla de Ávila, pasando por el dibu
 jo de animales realizados en pluma o el pastel con el que ha pintado a sus 
 nietas, Bienvenido ha recogido su trayectoria en una treintena de obras que
  ahora llegan al público en diferentes formatos.</p><p>La exposición será v
 isitable de martes a viernes, de 19 a 21 horas; sábados y festivos, de 12 a
  14 y de 19 a 21 horas, y domingos, de 12 a 14 horas. Los lunes permanece c
 errada.</p>
DTSTAMP:20260425T024645Z
DTSTART;TZID=Europe/Madrid;VALUE=DATE:20231117
DTEND;TZID=Europe/Madrid;VALUE=DATE:20231201
SEQUENCE:0
TRANSP:OPAQUE
END:VEVENT
END:VCALENDAR