BEGIN:VCALENDAR
VERSION:2.0
PRODID:-//jEvents 2.0 for Joomla//EN
CALSCALE:GREGORIAN
METHOD:PUBLISH
BEGIN:VTIMEZONE
TZID:Europe/Madrid
END:VTIMEZONE
BEGIN:VEVENT
UID:f72823a4ee87e40d6dba6080773f6153
CATEGORIES:Cultura
CREATED:20240318T093054
SUMMARY:Ciclo "Contando la Música"
DESCRIPTION;ENCODING=QUOTED-PRINTABLE:\n\nEl Ayuntamiento de Ávila ha programado una nueva edición del ciclo ‘Con
 tando la música’, que ofrecerá cinco charlas en las que se desgranarán obra
 s nacionales e internacionales que forman parte de la historia de la música
 .\nEl director de la Orquesta Sinfónica de Ávila, José Luis López-Antón, se
 rá el encargado de ofrecer las diferentes charlas que componen este ciclo, 
 que comenzará el próximo 18 de marzo. Todas las conferencias tendrán lugar 
 en el Episcopio, a las 20 horas.\n\n- 18 de marzo:&nbsp;Capricho español de
  Rimsky-Korsakov\n- 25 de marzo:&nbsp;Sinfonía Alpina de Richard Strauss\n-
  15 de abril:&nbsp;La revoltosa de&nbsp;Ruperto Chapí\n- 6 de mayo:&nbsp;Si
 nfonía ‘Italiana’ de Mendelssohn\n- 20 de mayo:&nbsp;Variaciones Enigma de 
 Edward Elgar\n\n\nEl ciclo comprenderá obras que se estrenaron fundamentalm
 ente entre mediados del siglo XIX y principios del XX, comenzando por el Ca
 pricho español de Rimsky-Korsakov (1887), influido por los paisajes y la mú
 sica que conoció el compositor ruso realizando un crucero en un buque escue
 la por el Mediterráneo.\nDe Rusia, el ciclo viajará a Alemania, con el comp
 ositor Richard Strauss y su Sinfonía Alpina (1915), considerada una de las 
 grandes obras creadas por este autor, que se inspiró en los paseos que real
 izaba por los Alpes. El 25 de marzo será el turno de esta obra.\nY de Alema
 nia a España, cambiando de país y también de estilo musical, para que el pú
 blico del ciclo ‘Contando la música’ se adentre en la zarzuela. Para ello, 
 se abordará, el 15 de abril, la obra de Ruperto Chapí titulada La revoltosa
  (1897), una de las obras cumbre del género chico con Felipe y Mari Pepa co
 mo los protagonistas consagrados de este sainete lírico.\nEl ciclo continua
 rá el 6 de mayo con la Sinfonía número 4 en La Mayor, ‘Italiana’, de Mendel
 ssohn (1833), la última sinfonía de este compositor, que surgió de un viaje
  que realizó por Italia y a través de la cual busca expresar el folklore y 
 las costumbres de este país.\nY el 20 de mayo el ciclo concluirá con las Va
 riaciones Enigma de Edward Elgar (1899), compuestas a modo de retrato impro
 visado de cada uno de los amigos del autor y su esposa, la novelista y poet
 isa inglesa Caroline Alice Elgar.\nLa entrada a las charlas será libre hast
 a completar el aforo.\n
DTSTAMP:20260425T142859Z
DTSTART;TZID=Europe/Madrid;VALUE=DATE:20240520
DTEND;TZID=Europe/Madrid;VALUE=DATE:20240521
SEQUENCE:0
TRANSP:OPAQUE
END:VEVENT
END:VCALENDAR