BEGIN:VCALENDAR
VERSION:2.0
PRODID:-//jEvents 2.0 for Joomla//EN
CALSCALE:GREGORIAN
METHOD:PUBLISH
BEGIN:VTIMEZONE
TZID:Europe/Madrid
END:VTIMEZONE
BEGIN:VEVENT
UID:9b17e2c4ef041d3088efe0649096c50f
CATEGORIES:Deportes
CREATED:20240411T142221
SUMMARY:V Circuito de Carreras Ciudades Patrimonio de la Humanidad
DESCRIPTION;ENCODING=QUOTED-PRINTABLE:&nbsp;Ávila, 10 de noviembre.&nbsp;II 10k y X Media Maratón Ávila Monumenta
 l\nEl Grupo de Ciudades Patrimonio de la Humanidad de España organiza por q
 uinta ocasión, una nueva edición de su Circuito de Carreras.\n\nEl objetivo
  principal del Circuito es dar a conocer las 15 Ciudades españolas Patrimon
 io de la Humanidad (Alcalá de Henares,&nbsp;Ávila, Baeza, Cáceres, Córdoba,
  Cuenca, Ibiza/Eivissa, Mérida, Salamanca, San Cristóbal de La Laguna, Sant
 iago de Compostela, Segovia, Tarragona, Toledo y Úbeda) a través de las car
 reras populares y, a su vez, fomentar la actividad física y deportiva, prop
 iciando la ocupación del tiempo de ocio en una de las prácticas deportivas 
 más comunes y fáciles de llevar a cabo como es la carrera a pie.\n\nLas dis
 tancias de las pruebas que forman el V Circuito de Carreras Ciudades Patrim
 onio de la Humanidad, oscilarán entre los 10 km y la Media maratón, transcu
 rriendo total o parcialmente en la zona patrimonial de cada ciudad.\n\nEl V
  Circuito de Carreras Ciudades Patrimonio de la Humanidad se desarrollará d
 e marzo a noviembre de 2024 y constará de 15 pruebas, de las cuales será ne
 cesario finalizar 4 de ellas para optar a la clasificación final del Circui
 to.\n\n\nMás información e inscripciones:&nbsp;ciudadespatrimonio.org
DTSTAMP:20260425T142859Z
DTSTART;TZID=Europe/Madrid;VALUE=DATE:20241110
DTEND;TZID=Europe/Madrid;VALUE=DATE:20241111
SEQUENCE:0
TRANSP:OPAQUE
END:VEVENT
END:VCALENDAR