BEGIN:VCALENDAR
VERSION:2.0
PRODID:-//jEvents 2.0 for Joomla//EN
CALSCALE:GREGORIAN
METHOD:PUBLISH
BEGIN:VTIMEZONE
TZID:Europe/Madrid
END:VTIMEZONE
BEGIN:VEVENT
UID:1a0b6c35dde610d404d5bdf75bb3dc02
CATEGORIES:Cultura
CREATED:20240603T144235
SUMMARY:EXPOSICIÓN "CONVERGENTES"
DESCRIPTION;ENCODING=QUOTED-PRINTABLE:&nbsp;&nbsp;\n\n"Convergentes" es el título de la exposición que hasta el 1
 5 de junio se puede visitar en el Episcopio, un espacio que se convierte en
  punto de unión de 14 abulenses en torno a las diferentes formas de arte:&n
 bsp;pintura, escultura, instalación y fotografía.\nEsta convergencia de téc
 nicas, estilos y temáticas recoge obras de Juan Martín, XenarOvinOdarrut, E
 loy Kosa, Gloria Pérez, Belén Madrigal, Alfonso Pindado, Máximo Velayos, Da
 niel Hidalgo, Jonatan Gómez, Emilio Sánchez, Fernando García Almeida, Juan 
 Gil Segovia, Clara Isabel Arribas y José Antonio Elvira.\nLa exposición, pa
 ra dar cabida a las diferentes formas, además, incluirá varias actividades,
  comenzando el 4 de junio, con un experimento teatral a cargo de Alfonso Pi
 ndado. El 6 de junio, la actividad lleva por título ‘Quantum y el punto del
  sentimiento. Mapas de conexiones neuronales’, con Fernando García Almeida,
  mientras que el 11 junio se realizará una lectura de poemas de José Antoni
 o Arribas, con las voces de Clara Isabel Arribas y Juan Gil Segovia. Para f
 inalizar, el 13 junio, se dedicará la actividad a los ‘Libros de autor a pa
 so cambiado’, con XenarOvinoDarrut.\nTodas las actividades tendrán acceso l
 ibre y se realizarán a las 19.15 horas.\nLa exposición es visitable de mart
 es a viernes, de 19 a 21 horas; sábados, de 12 a 14 y de 19 a 21 horas, y d
 omingos, de 12 a 14 horas.
DTSTAMP:20260425T142747Z
DTSTART;TZID=Europe/Madrid;VALUE=DATE:20240601
DTEND;TZID=Europe/Madrid;VALUE=DATE:20240616
SEQUENCE:0
TRANSP:OPAQUE
END:VEVENT
END:VCALENDAR