BEGIN:VCALENDAR
VERSION:2.0
PRODID:-//jEvents 2.0 for Joomla//EN
CALSCALE:GREGORIAN
METHOD:PUBLISH
BEGIN:VTIMEZONE
TZID:Europe/Madrid
END:VTIMEZONE
BEGIN:VEVENT
UID:18207816775004c4d1919076d6d0c60c
CATEGORIES:Medio Ambiente
CREATED:20240710T085246
SUMMARY:Observación astronómica
DESCRIPTION;ENCODING=QUOTED-PRINTABLE:ACTIVIDADES DE VERANO CENTRO MEDIOAMBIENTAL SAN NICOLÁStamaño de la fuente&
 nbsp;&nbsp;&nbsp;&nbsp;&nbsp;Imprimir&nbsp;Email&nbsp;\nEl Ayuntamiento de 
 Ávila ha programado media docena de actividades este verano en el Centro Me
 dioambiental San Nicolás, entre las que habrá rutas guiadas, una observació
 n astronómica, talleres y el ciclo de Cine en el Jardín.&nbsp;&nbsp;Más inf
 ormación: enlace al contenido
DTSTAMP:20260421T141319Z
DTSTART;TZID=Europe/Madrid;VALUE=DATE:20240711
DTEND;TZID=Europe/Madrid;VALUE=DATE:20240712
SEQUENCE:0
TRANSP:OPAQUE
END:VEVENT
END:VCALENDAR