BEGIN:VCALENDAR
VERSION:2.0
PRODID:-//jEvents 2.0 for Joomla//EN
CALSCALE:GREGORIAN
METHOD:PUBLISH
BEGIN:VTIMEZONE
TZID:Europe/Madrid
END:VTIMEZONE
BEGIN:VEVENT
UID:211bad0b4c982298aac3bd56a8dcbb10
CATEGORIES:Medio Ambiente
CREATED:20240710T090404
SUMMARY:Charla Zoom zampullines, somormujos y cormoranes
DESCRIPTION;ENCODING=QUOTED-PRINTABLE:ACTIVIDADES DE VERANO CENTRO MEDIOAMBIENTAL SAN NICOLÁStamaño de la fuente&
 nbsp;&nbsp;&nbsp;&nbsp;&nbsp;Imprimir&nbsp;Email&nbsp;\nEl Ayuntamiento de 
 Ávila ha programado media docena de actividades este verano en el Centro Me
 dioambiental San Nicolás, entre las que habrá rutas guiadas, una observació
 n astronómica, talleres y el ciclo de Cine en el Jardín.&nbsp;&nbsp;Más inf
 ormación: enlace al contenido
DTSTAMP:20260421T120202Z
DTSTART;TZID=Europe/Madrid;VALUE=DATE:20240905
DTEND;TZID=Europe/Madrid;VALUE=DATE:20240906
SEQUENCE:0
TRANSP:OPAQUE
END:VEVENT
END:VCALENDAR