BEGIN:VCALENDAR
VERSION:2.0
PRODID:-//jEvents 2.0 for Joomla//EN
CALSCALE:GREGORIAN
METHOD:PUBLISH
BEGIN:VTIMEZONE
TZID:Europe/Madrid
END:VTIMEZONE
BEGIN:VEVENT
UID:46e7869afe6a3b06db7682086abd8550
CATEGORIES:Cultura
CREATED:20240716T131856
SUMMARY:Ciclo "Cine en el Jardín"
DESCRIPTION;ENCODING=QUOTED-PRINTABLE:&nbsp;17 de julio a las 22 horas\nCentro Medioambiental San Nicolás\n\n\nPr
 ogramado un ciclo de cine medioambiental este verano para acercar diferente
 s aspectos relacionados con la naturaleza al público.\nEl ciclo ‘Cine en el
  jardín’ constará de cuatro sesiones durante los meses de julio y agosto. T
 odas ellas tendrán lugar en el Centro Medioambiental San Nicolás y la entra
 da será gratuita. El acceso se realiza de forma directa a los jardines del 
 centro medioambiental por la puerta situada junto al paseo de la ribera del
  Adaja.\nEl ciclo comenzará este miércoles&nbsp;17 de julio, a las 22 horas
 , con la proyección de&nbsp;Dehesa. Dirigido por Carlos Pérez, este documen
 tal describe de modo atractivo el singular ecosistema en el que se constitu
 ye la dehesa, que surge de la transformación parcial del bosque, por parte 
 del hombre, y que alcanza sus mejores exponentes en el suroeste de la penín
 sula Ibérica.\nCon la producción española de 1080 líneas, este trabajo prof
 undiza en un ecosistema único en Europa por su rica biodiversidad, ya que a
 barcar buena parte del sureste de la península, con más de tres millones de
  hectáreas en las que se reúnen un variado mosaico de entornos.\nLa segunda
  proyección se realizará el&nbsp;31 de julio, también a las 22 horas, y per
 mitirá a los asistentes viajar a&nbsp;Islandia. La isla recién nacida. Con 
 este título, su director, Carlos Pérez, propone conocer una tierra de hielo
  y fuego a través de sus habitantes, como el zorro ártico, único mamífero t
 errestre autóctono.\nYa en el mes de agosto habrá otras dos sesiones de Cin
 e en el jardín. La primera de ellas será el&nbsp;14 de agosto, a las 21.30 
 horas.&nbsp;Diario de un lobero&nbsp;será la película que se podrá ver en e
 sa jornada. Dirigida por el abulense José Luis Rodríguez, en ella describe 
 sus andanzas, durante una década, tratando de documentar la vida de distint
 as manadas de lobos; entre ellas, una que habita en el territorio abulense.
 \nLa última de las sesiones será el&nbsp;28 de agosto, a las 21.30 horas y 
 se centrará en&nbsp;Aguilucha. El espíritu indomable de una especie amenaza
 da, una fábula que cuenta en primera persona los avatares a los que se enfr
 enta una aguilucha desde su nacimiento. Dirigida por Alfredo Penella, la&nb
 sp;película da a conocer también y rinde homenaje a las distintas asociacio
 nes que trabajan en la conservación de especies protegidas.\nEn las proyecc
 iones, además, se contará con la presencia de bien los directores bien pers
 onas vinculadas a los proyectos o territorios que son objeto en los documen
 tales.\n
DTSTAMP:20260421T141036Z
DTSTART;TZID=Europe/Madrid;VALUE=DATE:20240731
DTEND;TZID=Europe/Madrid;VALUE=DATE:20240801
SEQUENCE:0
TRANSP:OPAQUE
END:VEVENT
END:VCALENDAR