BEGIN:VCALENDAR
VERSION:2.0
PRODID:-//jEvents 2.0 for Joomla//EN
CALSCALE:GREGORIAN
METHOD:PUBLISH
BEGIN:VTIMEZONE
TZID:Europe/Madrid
END:VTIMEZONE
BEGIN:VEVENT
UID:f9b3614cefa051e87f51aa4a67f38e55
CATEGORIES:Cultura
CREATED:20241016T144712
SUMMARY:IX Semana Jacobea
DESCRIPTION;ENCODING=QUOTED-PRINTABLE:&nbsp;Del 18 al 25 de octubre, la Semana Jacobea acercará este año a los ab
 ulenses y todas las personas interesadas música, historia e imágenes del Ca
 mino de Santiago, además de la naturaleza que se puede encontrar el peregri
 no a lo largo de esta ruta.\nCon el objetivo de dar a conocer las diferente
 s rutas que conducen en la península hasta Santiago de Compostela y, especi
 almente, la ruta de Levante, que pasa por la ciudad de Ávila, la Semana Jac
 obea alcanza su novena edición y se desarrollará del 18 al 25 de octubre, t
 al como han señalado el concejal de Cultura del Ayuntamiento de Ávila, Ánge
 l Sánchez, junto con Raquel Martín, presidenta de la Asociación de Amigos d
 el Camino de Santiago en Ávila, organizadores de las actividades en colabor
 ación con el Consistorio abulense.\nMedia docena de actividades conforman l
 a programación elaborada para esta Semana Jacobea, que comenzará el 18 de o
 ctubre con una exposición en el Episcopio que se inaugurará a las 19 horas,
  dedicada a ‘El Camino de Elías Valiña’. Hasta el 31 de octubre se podrá ve
 r esta muestra que, de forma paralela, contará con la proyección, a las 20 
 horas, de un documental dedicado a Elías Valiña, párroco inventor de la fle
 cha amarilla y figura indispensable cuando se habla del Camino de Santiago.
 \nLas actividades continuarán los días 21 y 22 de octubre con sendas charla
 s, a las 20 horas, en el Episcopio, en las que se contará con el profesor d
 e Historia del Arte y director de la revista Románico Augusto Guedes de Cas
 tro y con el doctor en Biología y científico del CSIC Ramón Morales Valverd
 e, respectivamente. Sus conferencias llevarán por título ‘Inventio, traslat
 io y narratio. Creación de la catedral de Santiago. El pórtico de la Gloria
 ’, que abordará desde la historia hasta la restauración de este elemento de
  la seo compostelana, y ‘La naturaleza en el Camino, ¿qué ves, qué oyes, qu
 é sientes, peregrino?, para vivir la naturaleza a cada paso de la ruta.\nEl
  23 de octubre, a las 20 horas y también en el Episcopio, se presentará la 
 novela histórica Viaje al fin del mundo. Los buscadores, del escritor y per
 iodista Manuel F. Rodríguez, recién jubilado como técnico del Xacobeo de la
  Xunta de Galicia.\nY en la jornada siguiente se realizará la tradicional j
 ornada de puertas abiertas del albergue de peregrinos Las Tenerías, que se 
 podrá visitar de 12 a 14 y de 17 a 19 horas.\nLa Semana Jacobea concluirá e
 l 25 octubre con una doble cita: a las 19 horas, se entregarán los premios 
 del Certamen de Cuentos Infantiles sobre el Camino de Santiago, y una hora 
 más tarde tendrá lugar también en el Episcopio el concierto de guitarra del
  folklorista y compositor José Ignacio H. Toquero, titulado ‘Música para el
  Camino de Santiago’.\nTodas las actividades tienen entrada libre hasta com
 pletar el aforo
DTSTAMP:20260425T142732Z
DTSTART;TZID=Europe/Madrid;VALUE=DATE:20241018
DTEND;TZID=Europe/Madrid;VALUE=DATE:20241026
SEQUENCE:0
TRANSP:OPAQUE
END:VEVENT
END:VCALENDAR