BEGIN:VCALENDAR
VERSION:2.0
PRODID:-//jEvents 2.0 for Joomla//EN
CALSCALE:GREGORIAN
METHOD:PUBLISH
BEGIN:VTIMEZONE
TZID:Europe/Madrid
END:VTIMEZONE
BEGIN:VEVENT
UID:052b0646ae351070fe90c6f358638d81
CATEGORIES:Medio Ambiente
CREATED:20241016T144904
SUMMARY:Curso de ilustración de naturaleza
DESCRIPTION;ENCODING=QUOTED-PRINTABLE:19 de octubre&nbsp;\nParque del Soto de 10 a 14 horas\n\n\nProgramado para 
 el sábado 19 de octubre un curso de ilustración de naturaleza que se desarr
 ollará en el parque de El Soto.\nEl ilustrador Nacho Sevilla, miembro del e
 quipo didáctico del Centro Medioambiental San Nicolás e ilustrador reconoci
 do, será el encargado de impartir esta masterclass en la que los participan
 tes aprenderán técnicas y materiales para el desarrollo de un cuaderno de c
 ampo, una herramienta fundamental para el ilustrador de naturaleza.\nDirigi
 do a cualquier persona que quiera disfrutar intentando plasmar la belleza d
 e la naturaleza, tenga o no experiencia previa en materiales y técnicas de 
 ilustración, el curso se desarrollará en el parque de El Soto, que en esta 
 época del año presenta matices cromáticos propios de la llegada del otoño, 
 lo que supondrá un atractivo para los participantes y las escenas que se po
 drán dibujar.\nCon una duración de cuatro horas, desde las 10, la participa
 ción en esta actividad tiene un coste de 10 euros e incluye el material nec
 esario para el desarrollo del curso, aunque los asistentes que así lo desee
 n podrán llevar su propio material de dibujo.\nLas inscripciones pueden rea
 lizarse a través del correo electrónico&nbsp;\n
DTSTAMP:20260425T142737Z
DTSTART;TZID=Europe/Madrid;VALUE=DATE:20241019
DTEND;TZID=Europe/Madrid;VALUE=DATE:20241020
SEQUENCE:0
TRANSP:OPAQUE
END:VEVENT
END:VCALENDAR