BEGIN:VCALENDAR
VERSION:2.0
PRODID:-//jEvents 2.0 for Joomla//EN
CALSCALE:GREGORIAN
METHOD:PUBLISH
BEGIN:VTIMEZONE
TZID:Europe/Madrid
END:VTIMEZONE
BEGIN:VEVENT
UID:72e90517b1b65e3c2842935a17fd10a3
CATEGORIES:Cultura
CREATED:20241016T145038
SUMMARY:El Episcopio presenta... Octubre
DESCRIPTION;ENCODING=QUOTED-PRINTABLE:\n\n24 de octubre, 'Te robaré el alma' de Manuel Manteca &nbsp;\nA las 20 h
 oras en el Episcopio.\nEl Ayuntamiento de Ávila presenta este mes de octubr
 e tres nuevos títulos en el espacio del Episcopio.\nEl primero de ellos lle
 gará al público abulense mañana jueves 4 de octubre, a las 20 horas, de la 
 mano de Juan Carlos Maestro Arcos. Regálate felicidad 2 es el título de est
 a novela de autoayuda que supone una nueva adaptación de Regálate felicidad
  1; en esta ocasión, acompañada de encuestas y aportaciones de lectores que
  dan un nuevo enfoque a la felicidad personal.\nLicenciado en Ciencias de l
 a Actividad Física y el Deporte y MBA por la Escuela Europea de Negocios, J
 uan Carlos Maestro es también autor de Regálate Liderazgo y el Poder Mágico
  de la Estrella de Navidad.\nEl segundo libro de ‘El Episcopio presenta…’ l
 legará el 10 de octubre, a las 19 horas. Adoración Rosado Merchán acercará 
 al público abulense Me despertó enero, primer poemario en solitario de esta
  autora cuyo título procede de un hecho importante ocurrido en su vida el p
 rimer mes del año.\nY la tercera obra que llegará el Episcopio en octubre s
 erá Te robaré el alma, de Manuel Manteca, una historia de supervivencia en 
 tiempos convulsos extraída de hechos reales que conserva la memoria familia
 r del autor.\n\nEsta presentación se realizará el 24 de octubre, a las 20 h
 oras.\nLa entrada a todas las presentaciones es libre hasta completar el af
 oro.
DTSTAMP:20260425T142747Z
DTSTART;TZID=Europe/Madrid;VALUE=DATE:20241024
DTEND;TZID=Europe/Madrid;VALUE=DATE:20241025
SEQUENCE:0
TRANSP:OPAQUE
END:VEVENT
END:VCALENDAR