BEGIN:VCALENDAR
VERSION:2.0
PRODID:-//jEvents 2.0 for Joomla//EN
CALSCALE:GREGORIAN
METHOD:PUBLISH
BEGIN:VTIMEZONE
TZID:Europe/Madrid
BEGIN:STANDARD
DTSTART:20181117T000000
RDATE:20190331T030000
TZOFFSETFROM:+0200
TZOFFSETTO:+0100
TZNAME:Europe/Madrid CET
END:STANDARD
BEGIN:STANDARD
DTSTART:20191027T020000
RDATE:20200329T030000
TZOFFSETFROM:+0200
TZOFFSETTO:+0100
TZNAME:Europe/Madrid CET
END:STANDARD
BEGIN:STANDARD
DTSTART:20201025T020000
RDATE:20210328T030000
TZOFFSETFROM:+0200
TZOFFSETTO:+0100
TZNAME:Europe/Madrid CET
END:STANDARD
BEGIN:DAYLIGHT
DTSTART:20190331T030000
RDATE:20191027T020000
TZOFFSETFROM:+0100
TZOFFSETTO:+0200
TZNAME:Europe/Madrid CEST
END:DAYLIGHT
BEGIN:DAYLIGHT
DTSTART:20200329T030000
RDATE:20201025T020000
TZOFFSETFROM:+0100
TZOFFSETTO:+0200
TZNAME:Europe/Madrid CEST
END:DAYLIGHT
END:VTIMEZONE
BEGIN:VEVENT
UID:c0bdf4bd89b6a8be637f48c41b60eb61
CATEGORIES:Igualdad
CREATED:20191104T111142
SUMMARY:II Jornadas de Igualdad y Violencia de Género
DESCRIPTION;ENCODING=QUOTED-PRINTABLE:&nbsp;En Noviembre, los días 18 y 19, en el Auditorio Municipal de San Fran
 cisco, se celebrarán las&nbsp;II Jornadas de Igualdad y Violencia de Género
 , cuya temática girará en torno a los diferentes tipos de violencia que suf
 ren las mujeres por el hecho de ser mujer.\n\nEn las jornadas, se contará c
 on dos supervivientes de la violencia machista que contarán su experiencia 
 vital, con el fin de poder ayudar a otras mujeres que están pasando por lo 
 mismo que pasaron ellas.También se hablará de la parte psicológica de la vi
 olencia de género; es decir, se profundizará en esta forma de maltrato que 
 sufren las mujeres víctimas de violencia y las consecuencias y secuelas que
  dejan.\n\nEn estas jornadas, además, habrá una ponencia sobre la trata de 
 seres humanos con fines de explotación sexual y, en consecuencia, sobre pro
 stitución, otra forma más de violencia.Igualmente, se conocerá el trabajo q
 ue se hace con los maltratadores, a través de la terapia, y la Asociación A
 bulense de Atención a Víctimas de Violencia de Género (Avivig) dará a conoc
 er datos y situación en Ávila referentes a esta cuestión.\n\nPara esta acti
 vidad no es necesaria inscripción previa y las jornadas tendrán horario de 
 mañana y tarde el primer día y por la mañana el segundo.&nbsp;
DTSTAMP:20260421T043358Z
DTSTART;TZID=Europe/Madrid;VALUE=DATE:20191118
DTEND;TZID=Europe/Madrid;VALUE=DATE:20191120
SEQUENCE:0
TRANSP:OPAQUE
END:VEVENT
END:VCALENDAR