BEGIN:VCALENDAR
VERSION:2.0
PRODID:-//jEvents 2.0 for Joomla//EN
CALSCALE:GREGORIAN
METHOD:PUBLISH
BEGIN:VTIMEZONE
TZID:Europe/Madrid
BEGIN:STANDARD
DTSTART:20181107T000000
RDATE:20190331T030000
TZOFFSETFROM:+0200
TZOFFSETTO:+0100
TZNAME:Europe/Madrid CET
END:STANDARD
BEGIN:STANDARD
DTSTART:20191027T020000
RDATE:20200329T030000
TZOFFSETFROM:+0200
TZOFFSETTO:+0100
TZNAME:Europe/Madrid CET
END:STANDARD
BEGIN:STANDARD
DTSTART:20201025T020000
RDATE:20210328T030000
TZOFFSETFROM:+0200
TZOFFSETTO:+0100
TZNAME:Europe/Madrid CET
END:STANDARD
BEGIN:DAYLIGHT
DTSTART:20190331T030000
RDATE:20191027T020000
TZOFFSETFROM:+0100
TZOFFSETTO:+0200
TZNAME:Europe/Madrid CEST
END:DAYLIGHT
BEGIN:DAYLIGHT
DTSTART:20200329T030000
RDATE:20201025T020000
TZOFFSETFROM:+0100
TZOFFSETTO:+0200
TZNAME:Europe/Madrid CEST
END:DAYLIGHT
END:VTIMEZONE
BEGIN:VEVENT
UID:4092977ca3741437aa36403c296d2eda
CATEGORIES:Deportes
CREATED:20191107T101013
SUMMARY:Calendario de la 1ª jornada de los Juegos Escolares
DESCRIPTION;ENCODING=QUOTED-PRINTABLE:<p><strong>&nbsp;</strong></p><p><strong>MINIBASKET ALEVÍN FEMENINO</strong
 ></p><table style="width: 100%;"><tbody><tr><td style="width: 9%;"><p>18.15
  h</p></td><td style="width: 9%;">&nbsp;</td><td style="width: 3%;"><p>/</p
 ></td><td style="width: 19%;"><p>S. Antonio/Pista 2</p></td><td style="widt
 h: 30%;"><p><strong>CERVANTES</strong></p></td><td style="width: 1%;">&nbsp
 ;</td><td style="width: 2%;"><p>-</p></td><td style="width: 20%;"><p>J. YEP
 ES</p></td><td style="width: 2%;">&nbsp;</td></tr></tbody></table><p><stron
 g>&nbsp;</strong></p><p><strong>MINIVOLEY ALEVÍN FEMENINO</strong></p><p><s
 trong>&nbsp;</strong></p><table style="width: 100%;"><tbody><tr><td style="
 width: 9%;"><p><strong>18.40 h</strong></p></td><td style="width: 9%;">&nbs
 p;</td><td style="width: 3%;"><p>/</p></td><td style="width: 19%;"><p>S. An
 tonio/Pista 3</p></td><td style="width: 30%;"><p>MILAGROSA – LAS NIEVES</p>
 </td><td style="width: 1%;">&nbsp;</td><td style="width: 2%;"><p>-</p></td>
 <td style="width: 20%;"><p>SANTA ANA</p></td><td style="width: 2%;">&nbsp;<
 /td></tr></tbody></table><p><strong>&nbsp;</strong></p><p><strong>FÚTBOL SA
 LA ALEVÍN MASCULINO</strong></p><table style="width: 103%;"><tbody><tr><td 
 style="width: 9%;"><p><strong>17.30 h</strong></p></td><td style="width: 8%
 ;">&nbsp;</td><td style="width: 2%;"><p>/</p></td><td style="width: 19%;"><
 p>S. Antonio/Pista 1</p></td><td style="width: 24%;"><p>SANTA TERESA</p></t
 d><td style="width: 4%;">&nbsp;</td><td style="width: 2%;"><p>-</p></td><td
  style="width: 26%;"><p>J. YEPES</p></td><td style="width: 1%;">&nbsp;</td>
 </tr><tr><td style="width: 9%;"><p><strong>19.10 h</strong></p></td><td sty
 le="width: 8%;">&nbsp;</td><td style="width: 2%;"><p>/</p></td><td style="w
 idth: 19%;"><p>S. Antonio/Pista 1</p></td><td style="width: 24%;"><p>COMUNE
 ROS – A</p></td><td style="width: 4%;">&nbsp;</td><td style="width: 2%;"><p
 >-</p></td><td style="width: 26%;"><p>SANTA ANA</p></td><td style="width: 1
 %;">&nbsp;</td></tr><tr><td style="width: 9%;"><p><strong>20.00 h</strong><
 /p></td><td style="width: 8%;">&nbsp;</td><td style="width: 2%;"><p>/</p></
 td><td style="width: 19%;"><p>S. Antonio/Pista 1</p></td><td style="width: 
 24%;"><p>COMUNEROS – B</p></td><td style="width: 4%;">&nbsp;</td><td style=
 "width: 2%;"><p>-</p></td><td style="width: 26%;"><p>MILAGROSA – LAS NIEVES
 </p></td><td style="width: 1%;">&nbsp;</td></tr></tbody></table><p><strong>
 &nbsp;</strong></p><p><strong>FÚTBOL SALA ALEVÍN MIXTO</strong></p><table s
 tyle="width: 103%;"><tbody><tr><td style="width: 9%;"><p><strong>18.20 h</s
 trong></p></td><td style="width: 8%;">&nbsp;</td><td style="width: 2%;"><p>
 /</p></td><td style="width: 19%;"><p>S. Antonio/Pista 1</p></td><td style="
 width: 24%;"><p>DUPERIER</p></td><td style="width: 4%;">&nbsp;</td><td styl
 e="width: 2%;"><p>-</p></td><td style="width: 26%;"><p>S. ALBORNOZ</p></td>
 <td style="width: 1%;">&nbsp;</td></tr></tbody></table><p><strong>&nbsp;</s
 trong></p><p><strong>MINIBASKET ALEVÍN MIXTO</strong></p><p><strong>&nbsp;<
 /strong></p><table style="width: 103%;"><tbody><tr><td style="width: 9%;"><
 p>16.00 h</p></td><td style="width: 8%;">&nbsp;</td><td style="width: 2%;">
 <p>/</p></td><td style="width: 19%;"><p>S. Antonio/Pista 2</p></td><td styl
 e="width: 24%;"><p>S. P. BAUTISTA</p></td><td style="width: 4%;">&nbsp;</td
 ><td style="width: 2%;"><p>-</p></td><td style="width: 26%;"><p>FABIOLA – A
 </p></td><td style="width: 1%;">&nbsp;</td></tr><tr><td style="width: 9%;">
 <p>17.00 h</p></td><td style="width: 8%;">&nbsp;</td><td style="width: 2%;"
 ><p>/</p></td><td style="width: 19%;"><p>S. Antonio/Pista 2</p></td><td sty
 le="width: 24%;"><p>FABIOLA – B</p></td><td style="width: 4%;">&nbsp;</td><
 td style="width: 2%;"><p>-</p></td><td style="width: 26%;"><p>SANTO TOMÁS</
 p></td><td style="width: 1%;">&nbsp;</td></tr></tbody></table><p><strong>&n
 bsp;</strong></p><p><strong>MINIVOLEY ALEVÍN MIXTO</strong></p><p><strong>&
 nbsp;</strong></p><table style="width: 100%;"><tbody><tr><td style="width: 
 9%;"><p><strong>18.10 h</strong></p></td><td style="width: 9%;">&nbsp;</td>
 <td style="width: 3%;"><p>/</p></td><td style="width: 19%;"><p>S. Antonio/P
 ista 3</p></td><td style="width: 30%;"><p>STMO. ROSARIO</p></td><td style="
 width: 1%;">&nbsp;</td><td style="width: 2%;"><p>-</p></td><td style="width
 : 20%;"><p>FABIOLA – A</p></td><td style="width: 2%;">&nbsp;</td></tr></tbo
 dy></table><p><strong>&nbsp;</strong></p><p><strong>&nbsp;</strong></p><str
 ong><br /> </strong><p><strong>&nbsp;</strong></p><p><strong>&nbsp;</strong
 ></p><p><strong>FUTBOL SALA INFANTIL &nbsp;MASCULINO</strong></p><p>&nbsp;&
 nbsp;&nbsp;&nbsp;</p><table style="width: 631px;"><tbody><tr><td style="wid
 th: 58px;"><p>18.00 h</p></td><td style="width: 12px;"><p>/</p></td><td sty
 le="width: 116px;"><p>C. Depor/Pabellón</p></td><td style="width: 200px;"><
 p>ARANGUREN</p></td><td style="width: 28px;">&nbsp;</td><td style="width: 2
 8px;"><p>-</p></td><td style="width: 161px;"><p>J.SANTAYANA</p></td><td sty
 le="width: 28px;">&nbsp;</td></tr></tbody></table><p><strong>&nbsp;</strong
 ></p><p><strong>&nbsp;</strong></p><p><strong>FUTBOL SALA CADETE&nbsp; MASC
 ULINO </strong></p><p><strong>&nbsp;</strong></p><table style="width: 641px
 ;"><tbody><tr><td style="width: 58px;"><p>19.00 h</p></td><td style="width:
  12px;"><p>/</p></td><td style="width: 116px;"><p><strong>Zona Norte</stron
 g></p></td><td style="width: 200px;"><p>A.MADRIGAL</p></td><td style="width
 : 28px;">&nbsp;</td><td style="width: 19px;"><p>-</p></td><td style="width:
  189px;"><p>J.SANTAYANA – A</p></td><td style="width: 19px;">&nbsp;</td></t
 r><tr><td style="width: 58px;"><p>17.00 h</p></td><td style="width: 12px;">
 <p>/</p></td><td style="width: 116px;"><p>C. Depor/Pabellón</p></td><td sty
 le="width: 200px;"><p>I.CASTILLA – B</p></td><td style="width: 28px;">&nbsp
 ;</td><td style="width: 19px;"><p>-</p></td><td style="width: 189px;"><p>V.
  ZARZA</p></td><td style="width: 19px;">&nbsp;</td></tr><tr><td style="widt
 h: 58px;"><p>19.00 h</p></td><td style="width: 12px;"><p>/</p></td><td styl
 e="width: 116px;"><p><strong>C. Depor/Pabellón</strong></p></td><td style="
 width: 200px;"><p>I.CASTILLA – A</p></td><td style="width: 28px;">&nbsp;</t
 d><td style="width: 19px;"><p>-</p></td><td style="width: 189px;"><p>J. SAN
 TAYANA – B</p></td><td style="width: 19px;">&nbsp;</td></tr><tr><td style="
 width: 58px;"><p>20.00 h</p></td><td style="width: 12px;"><p>/</p></td><td 
 style="width: 116px;"><p>Zona Norte</p></td><td style="width: 200px;"><p><s
 trong>ARANGUREN</strong></p></td><td style="width: 28px;">&nbsp;</td><td st
 yle="width: 19px;"><p>-</p></td><td style="width: 189px;"><p>ÁVILASALA (<st
 rong>AMISTOSO</strong>)</p></td><td style="width: 19px;">&nbsp;</td></tr></
 tbody></table><p><strong>&nbsp;</strong></p><p><strong>&nbsp;</strong></p><
 p><strong>FUTBOL SALA JUVENIL MASCULINO</strong></p><p>&nbsp;&nbsp;&nbsp;&n
 bsp;</p><table style="width: 631px;"><tbody><tr><td style="width: 58px;"><p
 >17.00 h</p></td><td style="width: 12px;"><p>/</p></td><td style="width: 11
 6px;"><p>Zona Norte</p></td><td style="width: 200px;"><p>A.MADRIGAL</p></td
 ><td style="width: 28px;">&nbsp;</td><td style="width: 28px;"><p>-</p></td>
 <td style="width: 161px;"><p>I.CASTILLA</p></td><td style="width: 28px;">&n
 bsp;</td></tr><tr><td style="width: 58px;"><p>18.00 h</p></td><td style="wi
 dth: 12px;"><p>/</p></td><td style="width: 116px;"><p>Zona Norte</p></td><t
 d style="width: 200px;"><p>DIOCESANO</p></td><td style="width: 28px;">&nbsp
 ;</td><td style="width: 28px;"><p>-</p></td><td style="width: 161px;"><p>V.
  ZARZA – B</p></td><td style="width: 28px;">&nbsp;</td></tr></tbody></table
 ><p><strong>&nbsp;</strong></p>
DTSTAMP:20260422T062452Z
DTSTART;TZID=Europe/Madrid;VALUE=DATE:20191108
DTEND;TZID=Europe/Madrid;VALUE=DATE:20191109
SEQUENCE:0
TRANSP:OPAQUE
END:VEVENT
END:VCALENDAR