BEGIN:VCALENDAR
VERSION:2.0
PRODID:-//jEvents 2.0 for Joomla//EN
CALSCALE:GREGORIAN
METHOD:PUBLISH
BEGIN:VTIMEZONE
TZID:Europe/Madrid
BEGIN:STANDARD
DTSTART:20190306T000000
RDATE:20190331T030000
TZOFFSETFROM:+0200
TZOFFSETTO:+0100
TZNAME:Europe/Madrid CET
END:STANDARD
BEGIN:STANDARD
DTSTART:20191027T020000
RDATE:20200329T030000
TZOFFSETFROM:+0200
TZOFFSETTO:+0100
TZNAME:Europe/Madrid CET
END:STANDARD
BEGIN:STANDARD
DTSTART:20201025T020000
RDATE:20210328T030000
TZOFFSETFROM:+0200
TZOFFSETTO:+0100
TZNAME:Europe/Madrid CET
END:STANDARD
BEGIN:DAYLIGHT
DTSTART:20190331T030000
RDATE:20191027T020000
TZOFFSETFROM:+0100
TZOFFSETTO:+0200
TZNAME:Europe/Madrid CEST
END:DAYLIGHT
BEGIN:DAYLIGHT
DTSTART:20200329T030000
RDATE:20201025T020000
TZOFFSETFROM:+0100
TZOFFSETTO:+0200
TZNAME:Europe/Madrid CEST
END:DAYLIGHT
END:VTIMEZONE
BEGIN:VEVENT
UID:b213cf73b21978ab4930c715ce196c7e
CATEGORIES:Deportes
CREATED:20200303T124357
SUMMARY:Calendario de la 14ª jornada de los Juegos Escolares
DESCRIPTION;ENCODING=QUOTED-PRINTABLE:\n\n&nbsp;\n\n\n&nbsp;\n\n\nFUTBOL SALA ALEVÍN MASCULINO\n\n\n&nbsp;\n\n\nG
 rupo 1\n\n\n16.00 h\n\n\n/\n\n\nS. Antonio/Pista 1\n\n\nS. ALBORNOZ\n&nbsp;
 \n\n-\n\n\nJ. YEPES – A\n\n\n&nbsp;\n\n\nFUTBOL SALA ALEVÍN FEMENINO\n\n\n&
 nbsp;\n&nbsp;\n\n16.40 h\n\n\n/\n\n\nS. Antonio/Pista 1\n\n\nJ. YEPES\n&nbs
 p;\n\n-\n\n\nCERVANTES\n\n\n&nbsp;\n\n\n&nbsp;\n\n\nMINIBALONMANO&nbsp; ALE
 VÍN MASCULINO\n\n\n&nbsp;\n\n\nGrupo 1\n\n\n16.00 h\n\n\n/\n\n\nS. Antonio/
 Pista 3\n\n\nSANTO TOMÁS\n&nbsp;\n\n-\n\n\nEL PRADILLO\n\n\n&nbsp;\n\n\nGru
 po 2\n\n\n16.40 h\n\n\n/\n\n\nS. Antonio/Pista 3\n\n\nSANTA TERESA\n&nbsp;\
 n\n-\n\n\nMILAGROSA – LAS NIEVES\n\n\n&nbsp;\n\n\nMINIVOLEY ALEVÍN MIXTO\n\
 n\n&nbsp;\n\n\nSemifinal\n\n\n16.00 h\n\n\n/\n\n\nS. Antonio/Pista 2\n\n\nF
 ABIOLA – A\n&nbsp;\n\n-\n\n\nS. P. BAUTISTA\n\n\n&nbsp;\n\n\n&nbsp;\n\n\nMI
 NIVOLEY ALEVÍN MASCULINO\n\n\n&nbsp;\n\n\nGrupo 2\n\n\n16.40 h\n\n\n/\n\n\n
 S. Antonio/Pista 2\n\n\nJ. YEPES – B\n&nbsp;\n\n-\n\n\nCOMUNEROS – A\n\n\n&
 nbsp;\n\n\n\nBALONCESTO CADETE – JUVENIL MASCULINO\n\n\n&nbsp;\n\n\n16.00 h
 \n\n\n/\n\n\nPabellón Ciudad Deportiva\n\n\nA.MADRIGAL\n&nbsp;\n\n-\n\n\nV.
  ZARZA &nbsp;JUVENIL\n\n\n&nbsp;\n\n\n17.00 h\n\n\n/\n\n\nPabellón Ciudad D
 eportiva\n\n\nI. CASTILLA CADETE\n&nbsp;\n\n-\n\n\nPABLO VI &nbsp;JUVENIL\n
 \n\n&nbsp;\n\n\nFUTBOL SALA INFANTIL MASCULINO\n\n\n&nbsp;\n\n\n19.00 h\n\n
 \n/\n\n\nZona Norte\n\n\nARANGUREN\n&nbsp;\n\n-\n\n\nA.MADRIGAL\n\n\n&nbsp;
 \n&nbsp;&nbsp;&nbsp;\n\nDescansa:\n&nbsp;&nbsp;\n\nJ. SANTAYANA\n\n\n&nbsp;
 \n\n\nFUTBOL SALA CADETE MASCULINO\n\n\n&nbsp;\n\n\n19.15 h\n\n\n/\n\n\nPab
 ellón Ciudad Deportiva\n\n\nAVILASALA\n&nbsp;\n\n-\n\n\nJ. SANTAYANA – A\n\
 n\n&nbsp;\n\n\n16.00 h\n\n\n/\n\n\nZona Norte\n\n\nI.CASTILLA – A\n&nbsp;\n
 \n-\n\n\nA.MADRIGAL\n\n\n&nbsp;\n\n\n18.15 h\n\n\n/\n\n\nPabellón Ciudad De
 portiva\n\n\nI.CASTILLA – B\n&nbsp;\n\n-\n\n\nARANGUREN\n\n\n&nbsp;\n&nbsp;
 &nbsp;&nbsp;\n\nDescansa:\n&nbsp;&nbsp;\n\nV. ZARZA\n\n\n&nbsp;\n\n\nFUTBOL
  SALA JUVENIL MASCULINO\n\n\n&nbsp;\n\n\n17.00 h\n\n\n/\n\n\nZona Norte\n\n
 \nV. ZARZA-B\n&nbsp;\n\n-\n\n\nA. MADRIGAL\n&nbsp;\n\n18.00 h\n\n\n/\n\n\nZ
 ona Norte\n\n\nV. ZARZA-A\n&nbsp;\n\n-\n\n\nDIOCESANO\n&nbsp;&nbsp;&nbsp;&n
 bsp;\n\nDescansa:\n&nbsp;&nbsp;\n\nI.CASTILLA\n&nbsp;
DTSTAMP:20260420T094101Z
DTSTART;TZID=Europe/Madrid;VALUE=DATE:20200306
DTEND;TZID=Europe/Madrid;VALUE=DATE:20200307
SEQUENCE:0
TRANSP:OPAQUE
END:VEVENT
END:VCALENDAR