BEGIN:VCALENDAR
VERSION:2.0
PRODID:-//jEvents 2.0 for Joomla//EN
CALSCALE:GREGORIAN
METHOD:PUBLISH
BEGIN:VTIMEZONE
TZID:Europe/Madrid
BEGIN:STANDARD
DTSTART:20201025T020000
RDATE:20210328T030000
TZOFFSETFROM:+0200
TZOFFSETTO:+0100
TZNAME:Europe/Madrid CET
END:STANDARD
BEGIN:DAYLIGHT
DTSTART:20200502T000000
RDATE:20201025T020000
TZOFFSETFROM:+0100
TZOFFSETTO:+0200
TZNAME:Europe/Madrid CEST
END:DAYLIGHT
END:VTIMEZONE
BEGIN:VEVENT
UID:17f5d650b7db299dd6eda3011c789276
CATEGORIES: Día inhábil
CREATED:20210429T112916
SUMMARY:San Segundo
DESCRIPTION;ENCODING=QUOTED-PRINTABLE:Se traslada la festividad de San Segundo del 2 al 3 de mayo por coincidir c
 on domingo
DTSTAMP:20260425T040628Z
DTSTART;TZID=Europe/Madrid;VALUE=DATE:20210503
DTEND;TZID=Europe/Madrid;VALUE=DATE:20210504
SEQUENCE:0
TRANSP:OPAQUE
END:VEVENT
END:VCALENDAR