BEGIN:VCALENDAR
VERSION:2.0
PRODID:-//jEvents 2.0 for Joomla//EN
CALSCALE:GREGORIAN
METHOD:PUBLISH
BEGIN:VTIMEZONE
TZID:Europe/Madrid
BEGIN:STANDARD
DTSTART:20201025T020000
RDATE:20210328T030000
TZOFFSETFROM:+0200
TZOFFSETTO:+0100
TZNAME:Europe/Madrid CET
END:STANDARD
BEGIN:DAYLIGHT
DTSTART:20200905T000000
RDATE:20201025T020000
TZOFFSETFROM:+0100
TZOFFSETTO:+0200
TZNAME:Europe/Madrid CEST
END:DAYLIGHT
END:VTIMEZONE
BEGIN:VEVENT
UID:185c78fa5f39278282e638332fd21964
CATEGORIES:Cultura
CREATED:20210527T095132
SUMMARY:CONTANDO LA MÚSICA
DESCRIPTION;ENCODING=QUOTED-PRINTABLE:6 de septiembre\nLa sinfonía nº 9 "Desde el nuevo mundo"\nde A. Dvorak\n\nC
 ontando la Música’,&nbsp; dará comienzo el próximo lunes en una programació
 n que se desarrollará a lo largo del año.\nA través de esta actividad, se p
 retende difundir y hacer llegar la música clásica a todos los abulenses, de
  forma lúdica y sencilla, a través de charlas y conferencias sobre composit
 ores como Beethoven, Verdi o Manuel de Falla para “disfrutar de la música”.
 \nPor su parte, el director titular y artístico de la Orquesta Sinfónica de
  Ávila, José Luis López-Antón, quien impartirá las charlas, ha destacado la
  importancia de acercar y “hacer accesible” la música clásica a la població
 n, de la misma manera que un guía en un museo acerca el arte a los visitant
 es.\nLas conferencias comenzarán el lunes 17 de mayo con una charla dedicad
 a a Beethoven, como arquitecto de la sinfonía, y continuarán el 31 de mayo 
 con la obra Rigoletto, de Verdi.\nTodas las charlas, de carácter gratuito, 
 tendrán lugar en el Episcopio, a las 19 horas. Será obligatorio el uso de m
 ascarilla y el aforo será limitado.\n\nPROGRAMACIÓN\n\n\n31 de mayo\nRigole
 tto de Verdi. Cambio de paradigma en protagonista operístico\n\n14 de junio
 \nLa mñusica para Ballet de Manuel de Falla\nCon ocasión de l 75 aniversari
 o de su muerte\n\n5 de julio\nEl Mar y su inspiración\nCon música de Debuss
 y, Britten y Toldrá\n\n6 de septiembre\nLa sinfonía nº 9 "Desde el nuevo mu
 ndo"\nde A. Dvorak\n\n13 de septiembre\nMaurice Ravel y la música francesa\
 n\n18 de octubre\nLas vanguardias y la música del siglo XX\n\n25 de octubre
 \nLa Zarzuela. Historia de nuestro género lírico\n\n22 de noviembre\nMujere
 s compositoras a lo largo de la historia de la música\n\n13 de diciembre\nE
 l Mesías de Haendel\n
DTSTAMP:20260423T154303Z
DTSTART;TZID=Europe/Madrid;VALUE=DATE:20210906
DTEND;TZID=Europe/Madrid;VALUE=DATE:20210907
SEQUENCE:0
TRANSP:OPAQUE
END:VEVENT
END:VCALENDAR