BEGIN:VCALENDAR
VERSION:2.0
PRODID:-//jEvents 2.0 for Joomla//EN
CALSCALE:GREGORIAN
METHOD:PUBLISH
BEGIN:VTIMEZONE
TZID:Europe/Madrid
BEGIN:STANDARD
DTSTART:20201121T000000
RDATE:20210328T030000
TZOFFSETFROM:+0200
TZOFFSETTO:+0100
TZNAME:Europe/Madrid CET
END:STANDARD
END:VTIMEZONE
BEGIN:VEVENT
UID:06bc4685c3621c6b68914dae5e6fa431
CATEGORIES:Cultura
CREATED:20210527T095446
SUMMARY:CONTANDO LA MÚSICA
DESCRIPTION;ENCODING=QUOTED-PRINTABLE:22 de noviembre\nMujeres compositoras a lo largo de la historia de la músic
 a\n\nContando la Música’,&nbsp; dará comienzo el próximo lunes en una progr
 amación que se desarrollará a lo largo del año.\nA través de esta actividad
 , se pretende difundir y hacer llegar la música clásica a todos los abulens
 es, de forma lúdica y sencilla, a través de charlas y conferencias sobre co
 mpositores como Beethoven, Verdi o Manuel de Falla para “disfrutar de la mú
 sica”.\nPor su parte, el director titular y artístico de la Orquesta Sinfón
 ica de Ávila, José Luis López-Antón, quien impartirá las charlas, ha destac
 ado la importancia de acercar y “hacer accesible” la música clásica a la po
 blación, de la misma manera que un guía en un museo acerca el arte a los vi
 sitantes.\nLas conferencias comenzarán el lunes 17 de mayo con una charla d
 edicada a Beethoven, como arquitecto de la sinfonía, y continuarán el 31 de
  mayo con la obra Rigoletto, de Verdi.\nTodas las charlas, de carácter grat
 uito, tendrán lugar en el Episcopio, a las 19 horas. Será obligatorio el us
 o de mascarilla y el aforo será limitado.\n\nPROGRAMACIÓN\n\n\n31 de mayo\n
 Rigoletto de Verdi. Cambio de paradigma en protagonista operístico\n\n14 de
  junio\nLa mñusica para Ballet de Manuel de Falla\nCon ocasión de l 75 aniv
 ersario de su muerte\n\n5 de julio\nEl Mar y su inspiración\nCon música de 
 Debussy, Britten y Toldrá\n\n6 de septiembre\nLa sinfonía nº 9 "Desde el nu
 evo mundo"\nde A. Dvorak\n\n13 de septiembre\nMaurice Ravel y la música fra
 ncesa\n\n18 de octubre\nLas vanguardias y la música del siglo XX\n\n25 de o
 ctubre\nLa Zarzuela. Historia de nuestro género lírico\n\n22 de noviembre\n
 Mujeres compositoras a lo largo de la historia de la música\n\n13 de diciem
 bre\nEl Mesías de Haendel\n
DTSTAMP:20260425T040736Z
DTSTART;TZID=Europe/Madrid;VALUE=DATE:20211122
DTEND;TZID=Europe/Madrid;VALUE=DATE:20211123
SEQUENCE:0
TRANSP:OPAQUE
END:VEVENT
END:VCALENDAR