BEGIN:VCALENDAR
VERSION:2.0
PRODID:-//jEvents 2.0 for Joomla//EN
CALSCALE:GREGORIAN
METHOD:PUBLISH
BEGIN:VTIMEZONE
TZID:Europe/Madrid
BEGIN:STANDARD
DTSTART:20201107T000000
RDATE:20210328T030000
TZOFFSETFROM:+0200
TZOFFSETTO:+0100
TZNAME:Europe/Madrid CET
END:STANDARD
END:VTIMEZONE
BEGIN:VEVENT
UID:751a7eb24582b920f1d37c6e5d0bd872
CATEGORIES:Cultura
CREATED:20210601T100558
SUMMARY:CONTANDO LA MÚSICA
DESCRIPTION;ENCODING=QUOTED-PRINTABLE:<p style="margin: 15px 0px; color: #444446; font-family: MavenProRegular; f
 ont-size: 13px; font-style: normal; font-weight: 400; letter-spacing: norma
 l; orphans: 2; text-align: start; text-indent: 0px; text-transform: none; w
 hite-space: normal; widows: 2; word-spacing: 0px; background-color: #f7f7f9
 ;"><span style="font-size: 12pt;"><span style="font-size: 12pt;"><strong st
 yle="font-weight: bold; color: #444446; font-family: MavenProRegular; font-
 size: 13px; font-style: normal; letter-spacing: normal; orphans: 2; text-al
 ign: justify; text-indent: 0px; text-transform: none; white-space: normal; 
 widows: 2; word-spacing: 0px; background-color: #f7f7f9;"><strong style="fo
 nt-weight: bold; color: #444446; font-family: MavenProRegular; font-size: 1
 3px; font-style: normal; letter-spacing: normal; orphans: 2; text-align: ju
 stify; text-indent: 0px; text-transform: none; white-space: normal; widows:
  2; word-spacing: 0px; background-color: #f7f7f9;"><strong style="font-weig
 ht: bold; color: #444446; font-family: MavenProRegular; font-size: 13px; fo
 nt-style: normal; letter-spacing: normal; orphans: 2; text-align: justify; 
 text-indent: 0px; text-transform: none; white-space: normal; widows: 2; wor
 d-spacing: 0px; background-color: #f7f7f9;"><strong style="font-weight: bol
 d; color: #444446; font-family: MavenProRegular; font-size: 13px; font-styl
 e: normal; letter-spacing: normal; orphans: 2; text-align: justify; text-in
 dent: 0px; text-transform: none; white-space: normal; widows: 2; word-spaci
 ng: 0px; background-color: #f7f7f9;">8 de noviembre</strong><br style="colo
 r: #444446; font-family: MavenProRegular; font-size: 13px; font-style: norm
 al; font-weight: 400; letter-spacing: normal; orphans: 2; text-align: justi
 fy; text-indent: 0px; text-transform: none; white-space: normal; widows: 2;
  word-spacing: 0px; background-color: #f7f7f9;" /><span style="color: #4444
 46; font-family: MavenProRegular; font-size: 13px; font-style: normal; font
 -weight: 400; letter-spacing: normal; orphans: 2; text-align: justify; text
 -indent: 0px; text-transform: none; white-space: normal; widows: 2; word-sp
 acing: 0px; background-color: #f7f7f9; float: none;">La Zarzuela. Historia 
 de nuestro género lírico</span></strong><br /><br />PROGRAMACIÓN</strong><b
 r style="color: #444446; font-family: MavenProRegular; font-size: 13px; fon
 t-style: normal; font-weight: 400; letter-spacing: normal; orphans: 2; text
 -align: justify; text-indent: 0px; text-transform: none; white-space: norma
 l; widows: 2; word-spacing: 0px; background-color: #f7f7f9;" /><br style="c
 olor: #444446; font-family: MavenProRegular; font-size: 13px; font-style: n
 ormal; font-weight: 400; letter-spacing: normal; orphans: 2; text-align: ju
 stify; text-indent: 0px; text-transform: none; white-space: normal; widows:
  2; word-spacing: 0px; background-color: #f7f7f9;" /><strong style="font-we
 ight: bold; color: #444446; font-family: MavenProRegular; font-size: 13px; 
 font-style: normal; letter-spacing: normal; orphans: 2; text-align: justify
 ; text-indent: 0px; text-transform: none; white-space: normal; widows: 2; w
 ord-spacing: 0px; background-color: #f7f7f9;">17 de mayo</strong><br style=
 "color: #444446; font-family: MavenProRegular; font-size: 13px; font-style:
  normal; font-weight: 400; letter-spacing: normal; orphans: 2; text-align: 
 justify; text-indent: 0px; text-transform: none; white-space: normal; widow
 s: 2; word-spacing: 0px; background-color: #f7f7f9;" /><span style="color: 
 #444446; font-family: MavenProRegular; font-size: 13px; font-style: normal;
  font-weight: 400; letter-spacing: normal; orphans: 2; text-align: justify;
  text-indent: 0px; text-transform: none; white-space: normal; widows: 2; wo
 rd-spacing: 0px; background-color: #f7f7f9; float: none;">Beethoven el arqu
 itecto de la música</span><br style="color: #444446; font-family: MavenProR
 egular; font-size: 13px; font-style: normal; font-weight: 400; letter-spaci
 ng: normal; orphans: 2; text-align: justify; text-indent: 0px; text-transfo
 rm: none; white-space: normal; widows: 2; word-spacing: 0px; background-col
 or: #f7f7f9;" /><br style="color: #444446; font-family: MavenProRegular; fo
 nt-size: 13px; font-style: normal; font-weight: 400; letter-spacing: normal
 ; orphans: 2; text-align: justify; text-indent: 0px; text-transform: none; 
 white-space: normal; widows: 2; word-spacing: 0px; background-color: #f7f7f
 9;" /><strong style="font-weight: bold; color: #444446; font-family: MavenP
 roRegular; font-size: 13px; font-style: normal; letter-spacing: normal; orp
 hans: 2; text-align: justify; text-indent: 0px; text-transform: none; white
 -space: normal; widows: 2; word-spacing: 0px; background-color: #f7f7f9;">3
 1 de mayo</strong><br style="color: #444446; font-family: MavenProRegular; 
 font-size: 13px; font-style: normal; font-weight: 400; letter-spacing: norm
 al; orphans: 2; text-align: justify; text-indent: 0px; text-transform: none
 ; white-space: normal; widows: 2; word-spacing: 0px; background-color: #f7f
 7f9;" /><span style="color: #444446; font-family: MavenProRegular; font-siz
 e: 13px; font-style: normal; font-weight: 400; letter-spacing: normal; orph
 ans: 2; text-align: justify; text-indent: 0px; text-transform: none; white-
 space: normal; widows: 2; word-spacing: 0px; background-color: #f7f7f9; flo
 at: none;">Rigoletto de Verdi. Cambio de paradigma en protagonista operísti
 co</span><br style="color: #444446; font-family: MavenProRegular; font-size
 : 13px; font-style: normal; font-weight: 400; letter-spacing: normal; orpha
 ns: 2; text-align: justify; text-indent: 0px; text-transform: none; white-s
 pace: normal; widows: 2; word-spacing: 0px; background-color: #f7f7f9;" /><
 br style="color: #444446; font-family: MavenProRegular; font-size: 13px; fo
 nt-style: normal; font-weight: 400; letter-spacing: normal; orphans: 2; tex
 t-align: justify; text-indent: 0px; text-transform: none; white-space: norm
 al; widows: 2; word-spacing: 0px; background-color: #f7f7f9;" /><strong sty
 le="font-weight: bold; color: #444446; font-family: MavenProRegular; font-s
 ize: 13px; font-style: normal; letter-spacing: normal; orphans: 2; text-ali
 gn: justify; text-indent: 0px; text-transform: none; white-space: normal; w
 idows: 2; word-spacing: 0px; background-color: #f7f7f9;">14 de junio</stron
 g><br style="color: #444446; font-family: MavenProRegular; font-size: 13px;
  font-style: normal; font-weight: 400; letter-spacing: normal; orphans: 2; 
 text-align: justify; text-indent: 0px; text-transform: none; white-space: n
 ormal; widows: 2; word-spacing: 0px; background-color: #f7f7f9;" /><span st
 yle="color: #444446; font-family: MavenProRegular; font-size: 13px; font-st
 yle: normal; font-weight: 400; letter-spacing: normal; orphans: 2; text-ali
 gn: justify; text-indent: 0px; text-transform: none; white-space: normal; w
 idows: 2; word-spacing: 0px; background-color: #f7f7f9; float: none;">Tchai
 kosvky y su 4ª Sinfonía</span><br style="color: #444446; font-family: Maven
 ProRegular; font-size: 13px; font-style: normal; font-weight: 400; letter-s
 pacing: normal; orphans: 2; text-align: justify; text-indent: 0px; text-tra
 nsform: none; white-space: normal; widows: 2; word-spacing: 0px; background
 -color: #f7f7f9;" /><br style="color: #444446; font-family: MavenProRegular
 ; font-size: 13px; font-style: normal; font-weight: 400; letter-spacing: no
 rmal; orphans: 2; text-align: justify; text-indent: 0px; text-transform: no
 ne; white-space: normal; widows: 2; word-spacing: 0px; background-color: #f
 7f7f9;" /><strong style="font-weight: bold; color: #444446; font-family: Ma
 venProRegular; font-size: 13px; font-style: normal; letter-spacing: normal;
  orphans: 2; text-align: justify; text-indent: 0px; text-transform: none; w
 hite-space: normal; widows: 2; word-spacing: 0px; background-color: #f7f7f9
 ;">28 de junio<br /></strong><span style="color: #444446; font-family: Mave
 nProRegular; font-size: 13px; font-style: normal; font-weight: 400; letter-
 spacing: normal; orphans: 2; text-align: justify; text-indent: 0px; text-tr
 ansform: none; white-space: normal; widows: 2; word-spacing: 0px; backgroun
 d-color: #f7f7f9; float: none;">La Música para Ballet de Manuel de Falla</s
 pan><br style="color: #444446; font-family: MavenProRegular; font-size: 13p
 x; font-style: normal; font-weight: 400; letter-spacing: normal; orphans: 2
 ; text-align: justify; text-indent: 0px; text-transform: none; white-space:
  normal; widows: 2; word-spacing: 0px; background-color: #f7f7f9;" /><span 
 style="color: #444446; font-family: MavenProRegular; font-size: 13px; font-
 style: normal; font-weight: 400; letter-spacing: normal; orphans: 2; text-a
 lign: justify; text-indent: 0px; text-transform: none; white-space: normal;
  widows: 2; word-spacing: 0px; background-color: #f7f7f9; float: none;">Con
  ocasión del 75 aniversario de su muerte&nbsp;</span><br style="color: #444
 446; font-family: MavenProRegular; font-size: 13px; font-style: normal; fon
 t-weight: 400; letter-spacing: normal; orphans: 2; text-align: justify; tex
 t-indent: 0px; text-transform: none; white-space: normal; widows: 2; word-s
 pacing: 0px; background-color: #f7f7f9;" /><br style="color: #444446; font-
 family: MavenProRegular; font-size: 13px; font-style: normal; font-weight: 
 400; letter-spacing: normal; orphans: 2; text-align: justify; text-indent: 
 0px; text-transform: none; white-space: normal; widows: 2; word-spacing: 0p
 x; background-color: #f7f7f9;" /><strong style="font-weight: bold; color: #
 444446; font-family: MavenProRegular; font-size: 13px; font-style: normal; 
 letter-spacing: normal; orphans: 2; text-align: justify; text-indent: 0px; 
 text-transform: none; white-space: normal; widows: 2; word-spacing: 0px; ba
 ckground-color: #f7f7f9;">5 de julio</strong><br style="color: #444446; fon
 t-family: MavenProRegular; font-size: 13px; font-style: normal; font-weight
 : 400; letter-spacing: normal; orphans: 2; text-align: justify; text-indent
 : 0px; text-transform: none; white-space: normal; widows: 2; word-spacing: 
 0px; background-color: #f7f7f9;" /><span style="color: #444446; font-family
 : MavenProRegular; font-size: 13px; font-style: normal; font-weight: 400; l
 etter-spacing: normal; orphans: 2; text-align: justify; text-indent: 0px; t
 ext-transform: none; white-space: normal; widows: 2; word-spacing: 0px; bac
 kground-color: #f7f7f9; float: none;">El Mar y su inspiración</span><br sty
 le="color: #444446; font-family: MavenProRegular; font-size: 13px; font-sty
 le: normal; font-weight: 400; letter-spacing: normal; orphans: 2; text-alig
 n: justify; text-indent: 0px; text-transform: none; white-space: normal; wi
 dows: 2; word-spacing: 0px; background-color: #f7f7f9;" /><span style="colo
 r: #444446; font-family: MavenProRegular; font-size: 13px; font-style: norm
 al; font-weight: 400; letter-spacing: normal; orphans: 2; text-align: justi
 fy; text-indent: 0px; text-transform: none; white-space: normal; widows: 2;
  word-spacing: 0px; background-color: #f7f7f9; float: none;">Con música de 
 Debussy, Britten y Toldrá</span><br style="color: #444446; font-family: Mav
 enProRegular; font-size: 13px; font-style: normal; font-weight: 400; letter
 -spacing: normal; orphans: 2; text-align: justify; text-indent: 0px; text-t
 ransform: none; white-space: normal; widows: 2; word-spacing: 0px; backgrou
 nd-color: #f7f7f9;" /><br style="color: #444446; font-family: MavenProRegul
 ar; font-size: 13px; font-style: normal; font-weight: 400; letter-spacing: 
 normal; orphans: 2; text-align: justify; text-indent: 0px; text-transform: 
 none; white-space: normal; widows: 2; word-spacing: 0px; background-color: 
 #f7f7f9;" /><strong style="font-weight: bold; color: #444446; font-family: 
 MavenProRegular; font-size: 13px; font-style: normal; letter-spacing: norma
 l; orphans: 2; text-align: justify; text-indent: 0px; text-transform: none;
  white-space: normal; widows: 2; word-spacing: 0px; background-color: #f7f7
 f9;">6 de septiembre</strong><br style="color: #444446; font-family: MavenP
 roRegular; font-size: 13px; font-style: normal; font-weight: 400; letter-sp
 acing: normal; orphans: 2; text-align: justify; text-indent: 0px; text-tran
 sform: none; white-space: normal; widows: 2; word-spacing: 0px; background-
 color: #f7f7f9;" /><span style="color: #444446; font-family: MavenProRegula
 r; font-size: 13px; font-style: normal; font-weight: 400; letter-spacing: n
 ormal; orphans: 2; text-align: justify; text-indent: 0px; text-transform: n
 one; white-space: normal; widows: 2; word-spacing: 0px; background-color: #
 f7f7f9; float: none;">La sinfonía nº 9 "Desde el nuevo mundo"</span><br sty
 le="color: #444446; font-family: MavenProRegular; font-size: 13px; font-sty
 le: normal; font-weight: 400; letter-spacing: normal; orphans: 2; text-alig
 n: justify; text-indent: 0px; text-transform: none; white-space: normal; wi
 dows: 2; word-spacing: 0px; background-color: #f7f7f9;" /><span style="colo
 r: #444446; font-family: MavenProRegular; font-size: 13px; font-style: norm
 al; font-weight: 400; letter-spacing: normal; orphans: 2; text-align: justi
 fy; text-indent: 0px; text-transform: none; white-space: normal; widows: 2;
  word-spacing: 0px; background-color: #f7f7f9; float: none;">de A. Dvorak</
 span><br style="color: #444446; font-family: MavenProRegular; font-size: 13
 px; font-style: normal; font-weight: 400; letter-spacing: normal; orphans: 
 2; text-align: justify; text-indent: 0px; text-transform: none; white-space
 : normal; widows: 2; word-spacing: 0px; background-color: #f7f7f9;" /><br s
 tyle="color: #444446; font-family: MavenProRegular; font-size: 13px; font-s
 tyle: normal; font-weight: 400; letter-spacing: normal; orphans: 2; text-al
 ign: justify; text-indent: 0px; text-transform: none; white-space: normal; 
 widows: 2; word-spacing: 0px; background-color: #f7f7f9;" /><strong style="
 font-weight: bold; color: #444446; font-family: MavenProRegular; font-size:
  13px; font-style: normal; letter-spacing: normal; orphans: 2; text-align: 
 justify; text-indent: 0px; text-transform: none; white-space: normal; widow
 s: 2; word-spacing: 0px; background-color: #f7f7f9;">13 de septiembre</stro
 ng><br style="color: #444446; font-family: MavenProRegular; font-size: 13px
 ; font-style: normal; font-weight: 400; letter-spacing: normal; orphans: 2;
  text-align: justify; text-indent: 0px; text-transform: none; white-space: 
 normal; widows: 2; word-spacing: 0px; background-color: #f7f7f9;" /><span s
 tyle="color: #444446; font-family: MavenProRegular; font-size: 13px; font-s
 tyle: normal; font-weight: 400; letter-spacing: normal; orphans: 2; text-al
 ign: justify; text-indent: 0px; text-transform: none; white-space: normal; 
 widows: 2; word-spacing: 0px; background-color: #f7f7f9; float: none;">Maur
 ice Ravel y la música francesa</span><br style="color: #444446; font-family
 : MavenProRegular; font-size: 13px; font-style: normal; font-weight: 400; l
 etter-spacing: normal; orphans: 2; text-align: justify; text-indent: 0px; t
 ext-transform: none; white-space: normal; widows: 2; word-spacing: 0px; bac
 kground-color: #f7f7f9;" /><br style="color: #444446; font-family: MavenPro
 Regular; font-size: 13px; font-style: normal; font-weight: 400; letter-spac
 ing: normal; orphans: 2; text-align: justify; text-indent: 0px; text-transf
 orm: none; white-space: normal; widows: 2; word-spacing: 0px; background-co
 lor: #f7f7f9;" /><strong style="font-weight: bold; color: #444446; font-fam
 ily: MavenProRegular; font-size: 13px; font-style: normal; letter-spacing: 
 normal; orphans: 2; text-align: justify; text-indent: 0px; text-transform: 
 none; white-space: normal; widows: 2; word-spacing: 0px; background-color: 
 #f7f7f9;">18 de octubre</strong><br style="color: #444446; font-family: Mav
 enProRegular; font-size: 13px; font-style: normal; font-weight: 400; letter
 -spacing: normal; orphans: 2; text-align: justify; text-indent: 0px; text-t
 ransform: none; white-space: normal; widows: 2; word-spacing: 0px; backgrou
 nd-color: #f7f7f9;" /><span style="color: #444446; font-family: MavenProReg
 ular; font-size: 13px; font-style: normal; font-weight: 400; letter-spacing
 : normal; orphans: 2; text-align: justify; text-indent: 0px; text-transform
 : none; white-space: normal; widows: 2; word-spacing: 0px; background-color
 : #f7f7f9; float: none;">Las vanguardias y la música del siglo XX</span><br
  style="color: #444446; font-family: MavenProRegular; font-size: 13px; font
 -style: normal; font-weight: 400; letter-spacing: normal; orphans: 2; text-
 align: justify; text-indent: 0px; text-transform: none; white-space: normal
 ; widows: 2; word-spacing: 0px; background-color: #f7f7f9;" /><br style="co
 lor: #444446; font-family: MavenProRegular; font-size: 13px; font-style: no
 rmal; font-weight: 400; letter-spacing: normal; orphans: 2; text-align: jus
 tify; text-indent: 0px; text-transform: none; white-space: normal; widows: 
 2; word-spacing: 0px; background-color: #f7f7f9;" /><strong style="font-wei
 ght: bold; color: #444446; font-family: MavenProRegular; font-size: 13px; f
 ont-style: normal; letter-spacing: normal; orphans: 2; text-align: justify;
  text-indent: 0px; text-transform: none; white-space: normal; widows: 2; wo
 rd-spacing: 0px; background-color: #f7f7f9;">25 de octubre<br /></strong><s
 pan style="color: #444446; font-family: MavenProRegular; font-size: 13px; f
 ont-style: normal; font-weight: 400; letter-spacing: normal; orphans: 2; te
 xt-align: justify; text-indent: 0px; text-transform: none; white-space: nor
 mal; widows: 2; word-spacing: 0px; background-color: #f7f7f9; float: none;"
 >Antonio Vivaldi y el concierto para solista</span><br style="color: #44444
 6; font-family: MavenProRegular; font-size: 13px; font-style: normal; font-
 weight: 400; letter-spacing: normal; orphans: 2; text-align: justify; text-
 indent: 0px; text-transform: none; white-space: normal; widows: 2; word-spa
 cing: 0px; background-color: #f7f7f9;" /><br style="color: #444446; font-fa
 mily: MavenProRegular; font-size: 13px; font-style: normal; font-weight: 40
 0; letter-spacing: normal; orphans: 2; text-align: justify; text-indent: 0p
 x; text-transform: none; white-space: normal; widows: 2; word-spacing: 0px;
  background-color: #f7f7f9;" /><strong style="font-weight: bold; color: #44
 4446; font-family: MavenProRegular; font-size: 13px; font-style: normal; le
 tter-spacing: normal; orphans: 2; text-align: justify; text-indent: 0px; te
 xt-transform: none; white-space: normal; widows: 2; word-spacing: 0px; back
 ground-color: #f7f7f9;">8 de noviembre</strong><br style="color: #444446; f
 ont-family: MavenProRegular; font-size: 13px; font-style: normal; font-weig
 ht: 400; letter-spacing: normal; orphans: 2; text-align: justify; text-inde
 nt: 0px; text-transform: none; white-space: normal; widows: 2; word-spacing
 : 0px; background-color: #f7f7f9;" /><span style="color: #444446; font-fami
 ly: MavenProRegular; font-size: 13px; font-style: normal; font-weight: 400;
  letter-spacing: normal; orphans: 2; text-align: justify; text-indent: 0px;
  text-transform: none; white-space: normal; widows: 2; word-spacing: 0px; b
 ackground-color: #f7f7f9; float: none;">La Zarzuela. Historia de nuestro gé
 nero lírico</span><br style="color: #444446; font-family: MavenProRegular; 
 font-size: 13px; font-style: normal; font-weight: 400; letter-spacing: norm
 al; orphans: 2; text-align: justify; text-indent: 0px; text-transform: none
 ; white-space: normal; widows: 2; word-spacing: 0px; background-color: #f7f
 7f9;" /><br style="color: #444446; font-family: MavenProRegular; font-size:
  13px; font-style: normal; font-weight: 400; letter-spacing: normal; orphan
 s: 2; text-align: justify; text-indent: 0px; text-transform: none; white-sp
 ace: normal; widows: 2; word-spacing: 0px; background-color: #f7f7f9;" /><s
 trong style="font-weight: bold; color: #444446; font-family: MavenProRegula
 r; font-size: 13px; font-style: normal; letter-spacing: normal; orphans: 2;
  text-align: justify; text-indent: 0px; text-transform: none; white-space: 
 normal; widows: 2; word-spacing: 0px; background-color: #f7f7f9;">22 de nov
 iembre</strong><br style="color: #444446; font-family: MavenProRegular; fon
 t-size: 13px; font-style: normal; font-weight: 400; letter-spacing: normal;
  orphans: 2; text-align: justify; text-indent: 0px; text-transform: none; w
 hite-space: normal; widows: 2; word-spacing: 0px; background-color: #f7f7f9
 ;" /><span style="color: #444446; font-family: MavenProRegular; font-size: 
 13px; font-style: normal; font-weight: 400; letter-spacing: normal; orphans
 : 2; text-align: justify; text-indent: 0px; text-transform: none; white-spa
 ce: normal; widows: 2; word-spacing: 0px; background-color: #f7f7f9; float:
  none;">Mujeres compositoras a lo largo de la historia de la música</span><
 br style="color: #444446; font-family: MavenProRegular; font-size: 13px; fo
 nt-style: normal; font-weight: 400; letter-spacing: normal; orphans: 2; tex
 t-align: justify; text-indent: 0px; text-transform: none; white-space: norm
 al; widows: 2; word-spacing: 0px; background-color: #f7f7f9;" /><br style="
 color: #444446; font-family: MavenProRegular; font-size: 13px; font-style: 
 normal; font-weight: 400; letter-spacing: normal; orphans: 2; text-align: j
 ustify; text-indent: 0px; text-transform: none; white-space: normal; widows
 : 2; word-spacing: 0px; background-color: #f7f7f9;" /><strong style="font-w
 eight: bold; color: #444446; font-family: MavenProRegular; font-size: 13px;
  font-style: normal; letter-spacing: normal; orphans: 2; text-align: justif
 y; text-indent: 0px; text-transform: none; white-space: normal; widows: 2; 
 word-spacing: 0px; background-color: #f7f7f9;">13 de diciembre</strong><br 
 style="color: #444446; font-family: MavenProRegular; font-size: 13px; font-
 style: normal; font-weight: 400; letter-spacing: normal; orphans: 2; text-a
 lign: justify; text-indent: 0px; text-transform: none; white-space: normal;
  widows: 2; word-spacing: 0px; background-color: #f7f7f9;" /><span style="c
 olor: #444446; font-family: MavenProRegular; font-size: 13px; font-style: n
 ormal; font-weight: 400; letter-spacing: normal; orphans: 2; text-align: ju
 stify; text-indent: 0px; text-transform: none; white-space: normal; widows:
  2; word-spacing: 0px; background-color: #f7f7f9; float: none;">El Mesías d
 e Haendel</span></strong></span></span></p>
DTSTAMP:20260425T040923Z
DTSTART;TZID=Europe/Madrid;VALUE=DATE:20211108
DTEND;TZID=Europe/Madrid;VALUE=DATE:20211109
SEQUENCE:0
TRANSP:OPAQUE
END:VEVENT
END:VCALENDAR