BEGIN:VCALENDAR
VERSION:2.0
PRODID:-//jEvents 2.0 for Joomla//EN
CALSCALE:GREGORIAN
METHOD:PUBLISH
BEGIN:VTIMEZONE
TZID:Europe/Madrid
BEGIN:STANDARD
DTSTART:20201025T020000
RDATE:20210328T030000
TZOFFSETFROM:+0200
TZOFFSETTO:+0100
TZNAME:Europe/Madrid CET
END:STANDARD
BEGIN:DAYLIGHT
DTSTART:20200619T000000
RDATE:20201025T020000
TZOFFSETFROM:+0100
TZOFFSETTO:+0200
TZNAME:Europe/Madrid CEST
END:DAYLIGHT
END:VTIMEZONE
BEGIN:VEVENT
UID:2aee846e4924d85d141d5e1ff79e7134
CATEGORIES:Cultura
CREATED:20210604T125536
SUMMARY:Folklore
DESCRIPTION;ENCODING=QUOTED-PRINTABLE:Episcopio a las 20 horas a actuación <span style="color: #444446; font-fami
 ly: MavenProRegular; font-size: 13px; font-style: normal; font-weight: 400;
  letter-spacing: normal; orphans: 2; text-align: start; text-indent: 0px; t
 ext-transform: none; white-space: normal; widows: 2; word-spacing: 0px; bac
 kground-color: #f7f7f9; float: none;">de Avento ‘San Nicolás’ y Espigar,</s
 pan>
DTSTAMP:20260425T040954Z
DTSTART;TZID=Europe/Madrid;VALUE=DATE:20210620
DTEND;TZID=Europe/Madrid;VALUE=DATE:20210621
SEQUENCE:0
TRANSP:OPAQUE
END:VEVENT
END:VCALENDAR