BEGIN:VCALENDAR
VERSION:2.0
PRODID:-//jEvents 2.0 for Joomla//EN
CALSCALE:GREGORIAN
METHOD:PUBLISH
BEGIN:VTIMEZONE
TZID:Europe/Madrid
BEGIN:STANDARD
DTSTART:20201025T020000
RDATE:20210328T030000
TZOFFSETFROM:+0200
TZOFFSETTO:+0100
TZNAME:Europe/Madrid CET
END:STANDARD
BEGIN:DAYLIGHT
DTSTART:20200715T000000
RDATE:20201025T020000
TZOFFSETFROM:+0100
TZOFFSETTO:+0200
TZNAME:Europe/Madrid CEST
END:DAYLIGHT
END:VTIMEZONE
BEGIN:VEVENT
UID:8e99206b366371187eed4faa2723652a
CATEGORIES:Cultura
CREATED:20210707T140412
SUMMARY:Palabra y música en el Monasterio de los Jerónimos
DESCRIPTION;ENCODING=QUOTED-PRINTABLE:PALABRA Y MÚSICA EN EL MONASTERIO DE LOS JERÓNIMOStamaño de la fuente&nbsp;
 &nbsp;&nbsp;&nbsp;&nbsp;Imprimir&nbsp;Email&nbsp;9, 16 y 24 de julioDescarg
 ar el programa\n\nLa primera de las actividades, será&nbsp; el&nbsp;9 de ju
 lio, y consistirá en la presentación de la revista Atticus, de origen valli
 soletano, pero con colaboración de autores abulenses y que está considerada
  una de las publicaciones más importantes del panorama cultural español.\n&
 nbsp;Para esta presentación, se contará con un acompañamiento de imágenes y
  también de una página musical, de la mano de un dúo de piano y contrabajo 
 integrado por Jesús Fernández y Rodrigo López, que interpretará música de j
 azz, blues y bossa nova.\n\nEl&nbsp;16 de junio&nbsp;será el turno de la Ro
 nda poética, en la que se recordará a Miguel Delibes, en el centenario de s
 u nacimiento. Serán trece los poetas que se darán cita en esta actividad, n
 o solo de origen abulense sino también de Asturias, Argentina, León o Toled
 o. Entre ellos, estarán Rafael Flores o Luis Carnicero, mientras que la pág
 ina musical correrá a cargo del Dúo Aire, de música española, integrado por
  el guitarrista Javier Maíz y Alba San Genaro en la flauta travesera.\n\nLa
  tercera de las actividades se realizará el&nbsp;24 de julio&nbsp;y consist
 irá en la presentación pública de la revista El Cobaya, editada por el Ayun
 tamiento de Ávila y que rinde homenaje al abulense José Jiménez Lozano en u
 n número en el que también se incluye un homenaje a la poeta mexicana Miner
 va Margarita Villarreal y se incluye la última obra teatral de José Luis Al
 onso de Santos, Premio de la Crítica de Castilla y León 2020.\n\nTambién en
  esta ocasión se contará con una intervención musical, que correrá a cargo 
 de un trío de viento que interpretará música clásica y estará integrado por
  Javier Gutiérrez (clarinete), Alba San Genaro (flauta travesera) e Isabel 
 Gutiérrez (clarinete).\n\nEn todas las actividades, que tendrán lugar a las
 &nbsp;21.30 horas&nbsp;y serán de carácter&nbsp;gratuito, se contará, ademá
 s, con una introducción a cargo de Jesús María Sanchidrián, Cronista Oficia
 l de Ávila, y de Armando Ríos, arquitecto, que situarán al público en el es
 cenario del antiguo monasterio de Los Jerónimos con una breve charla sobre 
 la importancia y recuperación de este espacio.
DTSTAMP:20260425T040755Z
DTSTART;TZID=Europe/Madrid;VALUE=DATE:20210716
DTEND;TZID=Europe/Madrid;VALUE=DATE:20210717
SEQUENCE:0
TRANSP:OPAQUE
END:VEVENT
END:VCALENDAR