BEGIN:VCALENDAR
VERSION:2.0
PRODID:-//jEvents 2.0 for Joomla//EN
CALSCALE:GREGORIAN
METHOD:PUBLISH
BEGIN:VTIMEZONE
TZID:Europe/Madrid
BEGIN:STANDARD
DTSTART:20201105T000000
RDATE:20210328T030000
TZOFFSETFROM:+0200
TZOFFSETTO:+0100
TZNAME:Europe/Madrid CET
END:STANDARD
END:VTIMEZONE
BEGIN:VEVENT
UID:cffa9d08c91f6e30867f351c3fbb3490
CATEGORIES:Turismo
CREATED:20211027T125847
SUMMARY:Judiávila
DESCRIPTION;ENCODING=QUOTED-PRINTABLE:CUARTA EDICIÓN DE JUDIÁVILA\n\n
DTSTAMP:20260425T040552Z
DTSTART;TZID=Europe/Madrid;VALUE=DATE:20211106
DTEND;TZID=Europe/Madrid;VALUE=DATE:20211107
SEQUENCE:0
TRANSP:OPAQUE
END:VEVENT
END:VCALENDAR