BEGIN:VCALENDAR
VERSION:2.0
PRODID:-//jEvents 2.0 for Joomla//EN
CALSCALE:GREGORIAN
METHOD:PUBLISH
BEGIN:VTIMEZONE
TZID:Europe/Madrid
BEGIN:STANDARD
DTSTART:20201111T000000
RDATE:20210328T030000
TZOFFSETFROM:+0200
TZOFFSETTO:+0100
TZNAME:Europe/Madrid CET
END:STANDARD
END:VTIMEZONE
BEGIN:VEVENT
UID:8bfefb54b7b913c5e1a0cb83888cfe95
CATEGORIES:Cultura
CREATED:20211110T145052
SUMMARY:XVI Ciclo Tomás Luis de Victoria
DESCRIPTION;ENCODING=QUOTED-PRINTABLE:\nEl XVI Ciclo Tomás Luis de Victoria, que organiza la asociación Camerata 
 Abulense, en colaboración con el Ayuntamiento de Ávila, ofrecerá este año d
 os conciertos, los días 12 y 13 de noviembre, que tendrán como escenario la
  iglesia de San Juan Bautista.&nbsp;La primera de las jornadas el coro prot
 agonista será Camerata Abulense, que, bajo la dirección de Santiago Ruiz, i
 nterpretará un concierto íntegramente dedicado al polifonista abulense que 
 da nombre al ciclo de música.\nEl segundo de los conciertos, el 13 de novie
 mbre, contará con el Coro Universitario Complutense de Madrid, que, bajo la
  dirección de Bartomeu Tur, interpretará los Tenebrae Responsories de Victo
 ria.Ambos conciertos comenzarán a las 20 horas y la entrada será libre hast
 a completar el aforo.
DTSTAMP:20260424T154749Z
DTSTART;TZID=Europe/Madrid;VALUE=DATE:20211112
DTEND;TZID=Europe/Madrid;VALUE=DATE:20211114
SEQUENCE:0
TRANSP:OPAQUE
END:VEVENT
END:VCALENDAR