BEGIN:VCALENDAR
VERSION:2.0
PRODID:-//jEvents 2.0 for Joomla//EN
CALSCALE:GREGORIAN
METHOD:PUBLISH
BEGIN:VTIMEZONE
TZID:Europe/Madrid
BEGIN:STANDARD
DTSTART:20201119T000000
RDATE:20210328T030000
TZOFFSETFROM:+0200
TZOFFSETTO:+0100
TZNAME:Europe/Madrid CET
END:STANDARD
END:VTIMEZONE
BEGIN:VEVENT
UID:4b1d4b59878595e72cc0ac6d0dd5ef9e
CATEGORIES:Cultura
CREATED:20211117T085757
SUMMARY:Concierto extraordinario de Santa Cecilia 2021
DESCRIPTION;ENCODING=QUOTED-PRINTABLE:\nEl Ayuntamiento de Ávila y la Asociación Musical de Ávila celebrarán el s
 ábado 20 de noviembre la festividad de Santa Cecilia, patrona de la música,
  con un concierto dedicado a musicales que ofrecerá la Banda de Música de Á
 vila y&nbsp;que tendrá lugar en el Centro de Congresos y Exposiciones Lienz
 o Norte a partir de las 19.30 horas.&nbsp;Con un recorrido por la historia 
 de los musicales, el concierto comenzará con The Great Showman, para ir ret
 rocediendo en el tiempo a temas de películas de Walt Disney (El rey león) y
  la edad de oro de los musicales –entre finales de los 60 y principios de l
 os 70-, con Jesucristo Superstar y Grease.\nCats o West Side Story también 
 sonarán en el concierto del sábado con la Banda de Música de Ávila, integra
 da por 42 instrumentos y para el que las entradas, que ya están a la venta 
 en la taquilla del Lienzo Norte, cuestan tres euros.&nbsp;&nbsp;&nbsp;&nbsp
 ;
DTSTAMP:20260425T040557Z
DTSTART;TZID=Europe/Madrid;VALUE=DATE:20211120
DTEND;TZID=Europe/Madrid;VALUE=DATE:20211121
SEQUENCE:0
TRANSP:OPAQUE
END:VEVENT
END:VCALENDAR