BEGIN:VCALENDAR
VERSION:2.0
PRODID:-//jEvents 2.0 for Joomla//EN
CALSCALE:GREGORIAN
METHOD:PUBLISH
BEGIN:VTIMEZONE
TZID:Europe/Madrid
BEGIN:STANDARD
DTSTART:20201125T000000
RDATE:20210328T030000
TZOFFSETFROM:+0200
TZOFFSETTO:+0100
TZNAME:Europe/Madrid CET
END:STANDARD
END:VTIMEZONE
BEGIN:VEVENT
UID:49e3d92072703888e2d4e2d3e2f14df2
CATEGORIES:Deportes
CREATED:20211123T132401
SUMMARY:Calendario 3ª Jornada Juegos Escolares
DESCRIPTION;ENCODING=QUOTED-PRINTABLE:\n\n&nbsp;\n\n\nFUTBOL SALA CADETE-JUVENIL MASCULINO\n\n\n17.30 h\n\n\n/\n\
 n\nZona Norte\n\n\nV. ZARZA CAD.\n&nbsp;\n\n-\n\n\nA. MADRIGAL JUV\n&nbsp;\
 n\n19.00 h\n\n\n/\n\n\nMultiusos 1\n\n\nJ. SANTAYANA CAD.\n&nbsp;\n\n-\n\n\
 nI. CASTILLA JUV\n&nbsp;\n\n18.30 h\n\n\n/\n\n\nZona Norte\n\n\nV. ZARZA JU
 V-C\n&nbsp;\n\n-\n\n\nV. ZARZA JUV-B\n&nbsp;\n\n19.30 h\n\n\n/\n\n\nZona No
 rte\n\n\nV. ZARZA JUV-A\n&nbsp;\n\n-\n\n\nARANGUREN CAD.\n&nbsp;&nbsp;&nbsp
 ;&nbsp;\n\nDescansa:\n\n\nMILA-LAS NIEVES JUV\n&nbsp;&nbsp;&nbsp;&nbsp;&nbs
 p;&nbsp;&nbsp;&nbsp;&nbsp;&nbsp;&nbsp;&nbsp;\n\nFUTBOL SALA INFANTIL MASCUL
 INO\n\n\n18.00 h\n\n\n/\n\n\nMultiusos 1\n\n\nARANGUREN\n&nbsp;\n\n-\n\n\nA
 LONSO MADRIGAL\n&nbsp;\n\n16.30 h\n\n\n/\n\n\nZona Norte\n\n\nJ. SANTAYANA\
 n&nbsp;\n\n-\n\n\nMILA-LAS NIEVES\n&nbsp;\n\nMINI-BASKET ALEVÍN MASCULINO\n
 \n\nGrupo 2\n\n\n16.30 h\n\n\n/\n\n\nS. Antonio/pista 2\n\n\nCERVANTES-B\n&
 nbsp;\n\n-\n\n\nMILA-LAS NIEVES\n&nbsp;\n\nGrupo 2\n\n\n17.30 h\n\n\n/\n\n\
 nS. Antonio/pista 2\n\n\nCERVANTES-A\n&nbsp;\n\n-\n\n\nJ. YEPES\n&nbsp;\n\n
 Grupo 1\n\n\n18.30 h\n\n\n/\n\n\nS. Antonio/pista 2\n\n\nDUPERIER\n&nbsp;\n
 \n-\n\n\nS. ALBORNOZ-B\n&nbsp;\n\nMINI-VOLEY ALEVÍN FEMENINO\n\n\n18.00 h\n
 \n\n/\n\n\nS. Antonio/pista 1\n\n\nS. ALBORNOZ\n&nbsp;\n\n-\n\n\nDUPERIER\n
 &nbsp;\n\n18.45 h\n\n\n/\n\n\nS. Antonio/pista 1\n\n\nJ. YEPES\n&nbsp;\n\n-
 \n\n\nCERVANTES\n&nbsp;\n\nFUTBOL SALA ALEVÍN MIXTO\n\n\n17.30 h\n\n\n/\n\n
 \nS. Antonio/pista 3\n\n\nSANTA TERESA\n&nbsp;\n\n-\n\n\nMILA-LAS NIEVES\n&
 nbsp;\n\n18.20 h\n\n\n/\n\n\nS. Antonio/pista 3\n\n\nCOMUNEROS\n&nbsp;\n\n-
 \n\n\nFABIOLA\n&nbsp;\n\nFUTBOL SALA ALEVÍN MASCULINO\n\n\nGrupo 1\n\n\n16.
 40 h\n\n\n/\n\n\nS. Antonio/pista 3\n\n\nS. P. BAUTISTA\n&nbsp;\n\n-\n\n\nS
 . ALBORNOZ-A\n&nbsp;
DTSTAMP:20260425T040730Z
DTSTART;TZID=Europe/Madrid;VALUE=DATE:20211126
DTEND;TZID=Europe/Madrid;VALUE=DATE:20211127
SEQUENCE:0
TRANSP:OPAQUE
END:VEVENT
END:VCALENDAR