BEGIN:VCALENDAR
VERSION:2.0
PRODID:-//jEvents 2.0 for Joomla//EN
CALSCALE:GREGORIAN
METHOD:PUBLISH
BEGIN:VTIMEZONE
TZID:Europe/Madrid
END:VTIMEZONE
BEGIN:VEVENT
UID:5efb10d8d528e131ce87800ce0f49dd0
CATEGORIES:Cultura
CREATED:20240603T142932
SUMMARY:CICLO DE CINE SEMINCI
DESCRIPTION;ENCODING=QUOTED-PRINTABLE:&nbsp;&nbsp;\nEl Ayuntamiento de Ávila acercará el cine de la Semana Intern
 acional de Cine (Seminci) que se celebra en Valladolid al público abulense,
  a través de un ciclo de proyecciones que se desarrollará durante los miérc
 oles del mes de junio.&nbsp;En colaboración con la Filmoteca de Castilla y 
 León, este ciclo comenzará el próximo miércoles 5 de junio con la proyecció
 n de La imagte permanent, de Laura Ferrés, la gran triunfadora el año pasad
 o y ganadora de la Espiga de Oro, mientras que el 12 de junio se podrá ver 
 En nombre de la tierra, de D.K. Welchman, película candidata polaca a los O
 scar en la que se repite la técnica de su director de ofrecer una historia 
 a través de fotogramas pintados al óleo.\nLas ocho montañas, película itali
 ana del director belga Felix van Groeningent, será la siguiente del ciclo, 
 el 19 de junio. Estrenada en Cannes en 2022, donde se alzó con el premio de
 l jurado, y triunfadora de los David de Donatello, se llevó en la Seminci e
 l galardón a la mejor fotografía.\nY cerrará el ciclo, el 26 de junio, Muye
 res, de Marta Lallana. La película se estrenó en el Festival de Shanghái, d
 onde se alzó con el Gran Premio del Jurado y el galardón a la fotografía.\n
 Todas las proyecciones se realizarán a las 20.30 horas en el Episcopio, con
  entrada libre hasta completar el aforo.&nbsp;&nbsp;&nbsp;
DTSTAMP:20260425T161607Z
DTSTART;TZID=Europe/Madrid;VALUE=DATE:20240605
DTEND;TZID=Europe/Madrid;VALUE=DATE:20240606
SEQUENCE:0
TRANSP:OPAQUE
END:VEVENT
END:VCALENDAR