BEGIN:VCALENDAR
VERSION:2.0
PRODID:-//jEvents 2.0 for Joomla//EN
CALSCALE:GREGORIAN
METHOD:PUBLISH
BEGIN:VTIMEZONE
TZID:Europe/Madrid
END:VTIMEZONE
BEGIN:VEVENT
UID:1d60d132046656b1cfa7c6e7ad13ead3
CATEGORIES: Día inhábil
CREATED:20121226T133213
SUMMARY:Santa Teresa
DESCRIPTION;ENCODING=QUOTED-PRINTABLE:Festividad local en el municipio de Ávila
DTSTAMP:20260425T142903Z
DTSTART;TZID=Europe/Madrid;VALUE=DATE:20241015
DTEND;TZID=Europe/Madrid;VALUE=DATE:20241016
SEQUENCE:0
TRANSP:OPAQUE
END:VEVENT
END:VCALENDAR